BEGIN:VCALENDAR
VERSION:2.0
PRODID:-//KOG Bay Area - ECPv6.15.20//NONSGML v1.0//EN
CALSCALE:GREGORIAN
METHOD:PUBLISH
X-ORIGINAL-URL:https://kogbayarea.org
X-WR-CALDESC:Events for KOG Bay Area
REFRESH-INTERVAL;VALUE=DURATION:PT1H
X-Robots-Tag:noindex
X-PUBLISHED-TTL:PT1H
BEGIN:VTIMEZONE
TZID:UTC
BEGIN:STANDARD
TZOFFSETFROM:+0000
TZOFFSETTO:+0000
TZNAME:UTC
DTSTART:20260101T000000
END:STANDARD
END:VTIMEZONE
BEGIN:VEVENT
DTSTART;TZID=UTC:20270620T110000
DTEND;TZID=UTC:20270620T123000
DTSTAMP:20260420T110026
CREATED:20250429T184020Z
LAST-MODIFIED:20251105T200106Z
UID:10000112-1813489200-1813494600@kogbayarea.org
SUMMARY:Sunday Service
DESCRIPTION:Join us for Sunday Service \nJoin from Zoom Workplace app – Zoom
URL:https://kogbayarea.org/event/sunday-service/2027-06-20/
END:VEVENT
BEGIN:VEVENT
DTSTART;TZID=UTC:20270627T110000
DTEND;TZID=UTC:20270627T123000
DTSTAMP:20260420T110026
CREATED:20250429T184020Z
LAST-MODIFIED:20251105T200106Z
UID:10000113-1814094000-1814099400@kogbayarea.org
SUMMARY:Sunday Service
DESCRIPTION:Join us for Sunday Service \nJoin from Zoom Workplace app – Zoom
URL:https://kogbayarea.org/event/sunday-service/2027-06-27/
END:VEVENT
BEGIN:VEVENT
DTSTART;TZID=UTC:20270704T110000
DTEND;TZID=UTC:20270704T123000
DTSTAMP:20260420T110026
CREATED:20250429T184020Z
LAST-MODIFIED:20251105T200106Z
UID:10000114-1814698800-1814704200@kogbayarea.org
SUMMARY:Sunday Service
DESCRIPTION:Join us for Sunday Service \nJoin from Zoom Workplace app – Zoom
URL:https://kogbayarea.org/event/sunday-service/2027-07-04/
END:VEVENT
BEGIN:VEVENT
DTSTART;TZID=UTC:20270711T110000
DTEND;TZID=UTC:20270711T123000
DTSTAMP:20260420T110026
CREATED:20250429T184020Z
LAST-MODIFIED:20251105T200106Z
UID:10000115-1815303600-1815309000@kogbayarea.org
SUMMARY:Sunday Service
DESCRIPTION:Join us for Sunday Service \nJoin from Zoom Workplace app – Zoom
URL:https://kogbayarea.org/event/sunday-service/2027-07-11/
END:VEVENT
BEGIN:VEVENT
DTSTART;TZID=UTC:20270718T110000
DTEND;TZID=UTC:20270718T123000
DTSTAMP:20260420T110026
CREATED:20250429T184020Z
LAST-MODIFIED:20251105T200106Z
UID:10000116-1815908400-1815913800@kogbayarea.org
SUMMARY:Sunday Service
DESCRIPTION:Join us for Sunday Service \nJoin from Zoom Workplace app – Zoom
URL:https://kogbayarea.org/event/sunday-service/2027-07-18/
END:VEVENT
BEGIN:VEVENT
DTSTART;TZID=UTC:20270725T110000
DTEND;TZID=UTC:20270725T123000
DTSTAMP:20260420T110026
CREATED:20250429T184020Z
LAST-MODIFIED:20251105T200106Z
UID:10000117-1816513200-1816518600@kogbayarea.org
SUMMARY:Sunday Service
DESCRIPTION:Join us for Sunday Service \nJoin from Zoom Workplace app – Zoom
URL:https://kogbayarea.org/event/sunday-service/2027-07-25/
END:VEVENT
BEGIN:VEVENT
DTSTART;TZID=UTC:20270801T110000
DTEND;TZID=UTC:20270801T123000
DTSTAMP:20260420T110026
CREATED:20250429T184020Z
LAST-MODIFIED:20251105T200106Z
UID:10000118-1817118000-1817123400@kogbayarea.org
SUMMARY:Sunday Service
DESCRIPTION:Join us for Sunday Service \nJoin from Zoom Workplace app – Zoom
URL:https://kogbayarea.org/event/sunday-service/2027-08-01/
END:VEVENT
BEGIN:VEVENT
DTSTART;TZID=UTC:20270808T110000
DTEND;TZID=UTC:20270808T123000
DTSTAMP:20260420T110026
CREATED:20250429T184020Z
LAST-MODIFIED:20251105T200106Z
UID:10000119-1817722800-1817728200@kogbayarea.org
SUMMARY:Sunday Service
DESCRIPTION:Join us for Sunday Service \nJoin from Zoom Workplace app – Zoom
URL:https://kogbayarea.org/event/sunday-service/2027-08-08/
END:VEVENT
BEGIN:VEVENT
DTSTART;TZID=UTC:20270815T110000
DTEND;TZID=UTC:20270815T123000
DTSTAMP:20260420T110026
CREATED:20250429T184020Z
LAST-MODIFIED:20251105T200106Z
UID:10000120-1818327600-1818333000@kogbayarea.org
SUMMARY:Sunday Service
DESCRIPTION:Join us for Sunday Service \nJoin from Zoom Workplace app – Zoom
URL:https://kogbayarea.org/event/sunday-service/2027-08-15/
END:VEVENT
BEGIN:VEVENT
DTSTART;TZID=UTC:20270822T110000
DTEND;TZID=UTC:20270822T123000
DTSTAMP:20260420T110026
CREATED:20250429T184020Z
LAST-MODIFIED:20251105T200106Z
UID:10000121-1818932400-1818937800@kogbayarea.org
SUMMARY:Sunday Service
DESCRIPTION:Join us for Sunday Service \nJoin from Zoom Workplace app – Zoom
URL:https://kogbayarea.org/event/sunday-service/2027-08-22/
END:VEVENT
BEGIN:VEVENT
DTSTART;TZID=UTC:20270829T110000
DTEND;TZID=UTC:20270829T123000
DTSTAMP:20260420T110026
CREATED:20250429T184020Z
LAST-MODIFIED:20251105T200106Z
UID:10000122-1819537200-1819542600@kogbayarea.org
SUMMARY:Sunday Service
DESCRIPTION:Join us for Sunday Service \nJoin from Zoom Workplace app – Zoom
URL:https://kogbayarea.org/event/sunday-service/2027-08-29/
END:VEVENT
BEGIN:VEVENT
DTSTART;TZID=UTC:20270905T110000
DTEND;TZID=UTC:20270905T123000
DTSTAMP:20260420T110026
CREATED:20250429T184020Z
LAST-MODIFIED:20251105T200106Z
UID:10000123-1820142000-1820147400@kogbayarea.org
SUMMARY:Sunday Service
DESCRIPTION:Join us for Sunday Service \nJoin from Zoom Workplace app – Zoom
URL:https://kogbayarea.org/event/sunday-service/2027-09-05/
END:VEVENT
BEGIN:VEVENT
DTSTART;TZID=UTC:20270912T110000
DTEND;TZID=UTC:20270912T123000
DTSTAMP:20260420T110026
CREATED:20250429T184020Z
LAST-MODIFIED:20251105T200106Z
UID:10000124-1820746800-1820752200@kogbayarea.org
SUMMARY:Sunday Service
DESCRIPTION:Join us for Sunday Service \nJoin from Zoom Workplace app – Zoom
URL:https://kogbayarea.org/event/sunday-service/2027-09-12/
END:VEVENT
BEGIN:VEVENT
DTSTART;TZID=UTC:20270919T110000
DTEND;TZID=UTC:20270919T123000
DTSTAMP:20260420T110026
CREATED:20250429T184020Z
LAST-MODIFIED:20251105T200106Z
UID:10000125-1821351600-1821357000@kogbayarea.org
SUMMARY:Sunday Service
DESCRIPTION:Join us for Sunday Service \nJoin from Zoom Workplace app – Zoom
URL:https://kogbayarea.org/event/sunday-service/2027-09-19/
END:VEVENT
BEGIN:VEVENT
DTSTART;TZID=UTC:20270926T110000
DTEND;TZID=UTC:20270926T123000
DTSTAMP:20260420T110026
CREATED:20250429T184020Z
LAST-MODIFIED:20251105T200106Z
UID:10000126-1821956400-1821961800@kogbayarea.org
SUMMARY:Sunday Service
DESCRIPTION:Join us for Sunday Service \nJoin from Zoom Workplace app – Zoom
URL:https://kogbayarea.org/event/sunday-service/2027-09-26/
END:VEVENT
BEGIN:VEVENT
DTSTART;TZID=UTC:20271003T110000
DTEND;TZID=UTC:20271003T123000
DTSTAMP:20260420T110026
CREATED:20250429T184020Z
LAST-MODIFIED:20251105T200106Z
UID:10000127-1822561200-1822566600@kogbayarea.org
SUMMARY:Sunday Service
DESCRIPTION:Join us for Sunday Service \nJoin from Zoom Workplace app – Zoom
URL:https://kogbayarea.org/event/sunday-service/2027-10-03/
END:VEVENT
BEGIN:VEVENT
DTSTART;TZID=UTC:20271010T110000
DTEND;TZID=UTC:20271010T123000
DTSTAMP:20260420T110026
CREATED:20250429T184020Z
LAST-MODIFIED:20251105T200106Z
UID:10000128-1823166000-1823171400@kogbayarea.org
SUMMARY:Sunday Service
DESCRIPTION:Join us for Sunday Service \nJoin from Zoom Workplace app – Zoom
URL:https://kogbayarea.org/event/sunday-service/2027-10-10/
END:VEVENT
BEGIN:VEVENT
DTSTART;TZID=UTC:20271017T110000
DTEND;TZID=UTC:20271017T123000
DTSTAMP:20260420T110026
CREATED:20250429T184020Z
LAST-MODIFIED:20251105T200106Z
UID:10000129-1823770800-1823776200@kogbayarea.org
SUMMARY:Sunday Service
DESCRIPTION:Join us for Sunday Service \nJoin from Zoom Workplace app – Zoom
URL:https://kogbayarea.org/event/sunday-service/2027-10-17/
END:VEVENT
BEGIN:VEVENT
DTSTART;TZID=UTC:20271024T110000
DTEND;TZID=UTC:20271024T123000
DTSTAMP:20260420T110026
CREATED:20250429T184020Z
LAST-MODIFIED:20251105T200106Z
UID:10000130-1824375600-1824381000@kogbayarea.org
SUMMARY:Sunday Service
DESCRIPTION:Join us for Sunday Service \nJoin from Zoom Workplace app – Zoom
URL:https://kogbayarea.org/event/sunday-service/2027-10-24/
END:VEVENT
BEGIN:VEVENT
DTSTART;TZID=UTC:20271031T110000
DTEND;TZID=UTC:20271031T123000
DTSTAMP:20260420T110026
CREATED:20250429T184020Z
LAST-MODIFIED:20251105T200106Z
UID:10000131-1824980400-1824985800@kogbayarea.org
SUMMARY:Sunday Service
DESCRIPTION:Join us for Sunday Service \nJoin from Zoom Workplace app – Zoom
URL:https://kogbayarea.org/event/sunday-service/2027-10-31/
END:VEVENT
BEGIN:VEVENT
DTSTART;TZID=UTC:20271107T110000
DTEND;TZID=UTC:20271107T123000
DTSTAMP:20260420T110026
CREATED:20250429T184020Z
LAST-MODIFIED:20251105T200106Z
UID:10000132-1825585200-1825590600@kogbayarea.org
SUMMARY:Sunday Service
DESCRIPTION:Join us for Sunday Service \nJoin from Zoom Workplace app – Zoom
URL:https://kogbayarea.org/event/sunday-service/2027-11-07/
END:VEVENT
BEGIN:VEVENT
DTSTART;TZID=UTC:20271114T110000
DTEND;TZID=UTC:20271114T123000
DTSTAMP:20260420T110026
CREATED:20250429T184020Z
LAST-MODIFIED:20251105T200106Z
UID:10000133-1826190000-1826195400@kogbayarea.org
SUMMARY:Sunday Service
DESCRIPTION:Join us for Sunday Service \nJoin from Zoom Workplace app – Zoom
URL:https://kogbayarea.org/event/sunday-service/2027-11-14/
END:VEVENT
BEGIN:VEVENT
DTSTART;TZID=UTC:20271121T110000
DTEND;TZID=UTC:20271121T123000
DTSTAMP:20260420T110026
CREATED:20250429T184020Z
LAST-MODIFIED:20251105T200106Z
UID:10000134-1826794800-1826800200@kogbayarea.org
SUMMARY:Sunday Service
DESCRIPTION:Join us for Sunday Service \nJoin from Zoom Workplace app – Zoom
URL:https://kogbayarea.org/event/sunday-service/2027-11-21/
END:VEVENT
BEGIN:VEVENT
DTSTART;TZID=UTC:20271128T110000
DTEND;TZID=UTC:20271128T123000
DTSTAMP:20260420T110026
CREATED:20250429T184020Z
LAST-MODIFIED:20251105T200106Z
UID:10000135-1827399600-1827405000@kogbayarea.org
SUMMARY:Sunday Service
DESCRIPTION:Join us for Sunday Service \nJoin from Zoom Workplace app – Zoom
URL:https://kogbayarea.org/event/sunday-service/2027-11-28/
END:VEVENT
BEGIN:VEVENT
DTSTART;TZID=UTC:20271205T110000
DTEND;TZID=UTC:20271205T123000
DTSTAMP:20260420T110026
CREATED:20250429T184020Z
LAST-MODIFIED:20251105T200106Z
UID:10000136-1828004400-1828009800@kogbayarea.org
SUMMARY:Sunday Service
DESCRIPTION:Join us for Sunday Service \nJoin from Zoom Workplace app – Zoom
URL:https://kogbayarea.org/event/sunday-service/2027-12-05/
END:VEVENT
BEGIN:VEVENT
DTSTART;TZID=UTC:20271212T110000
DTEND;TZID=UTC:20271212T123000
DTSTAMP:20260420T110026
CREATED:20250429T184020Z
LAST-MODIFIED:20251105T200106Z
UID:10000137-1828609200-1828614600@kogbayarea.org
SUMMARY:Sunday Service
DESCRIPTION:Join us for Sunday Service \nJoin from Zoom Workplace app – Zoom
URL:https://kogbayarea.org/event/sunday-service/2027-12-12/
END:VEVENT
BEGIN:VEVENT
DTSTART;TZID=UTC:20271219T110000
DTEND;TZID=UTC:20271219T123000
DTSTAMP:20260420T110026
CREATED:20250429T184020Z
LAST-MODIFIED:20251105T200106Z
UID:10000138-1829214000-1829219400@kogbayarea.org
SUMMARY:Sunday Service
DESCRIPTION:Join us for Sunday Service \nJoin from Zoom Workplace app – Zoom
URL:https://kogbayarea.org/event/sunday-service/2027-12-19/
END:VEVENT
BEGIN:VEVENT
DTSTART;TZID=UTC:20271226T110000
DTEND;TZID=UTC:20271226T123000
DTSTAMP:20260420T110026
CREATED:20250429T184020Z
LAST-MODIFIED:20251105T200106Z
UID:10000139-1829818800-1829824200@kogbayarea.org
SUMMARY:Sunday Service
DESCRIPTION:Join us for Sunday Service \nJoin from Zoom Workplace app – Zoom
URL:https://kogbayarea.org/event/sunday-service/2027-12-26/
END:VEVENT
BEGIN:VEVENT
DTSTART;TZID=UTC:20280102T110000
DTEND;TZID=UTC:20280102T123000
DTSTAMP:20260420T110026
CREATED:20250429T184020Z
LAST-MODIFIED:20251105T200106Z
UID:10000140-1830423600-1830429000@kogbayarea.org
SUMMARY:Sunday Service
DESCRIPTION:Join us for Sunday Service \nJoin from Zoom Workplace app – Zoom
URL:https://kogbayarea.org/event/sunday-service/2028-01-02/
END:VEVENT
BEGIN:VEVENT
DTSTART;TZID=UTC:20280109T110000
DTEND;TZID=UTC:20280109T123000
DTSTAMP:20260420T110026
CREATED:20250429T184020Z
LAST-MODIFIED:20251105T200106Z
UID:10000141-1831028400-1831033800@kogbayarea.org
SUMMARY:Sunday Service
DESCRIPTION:Join us for Sunday Service \nJoin from Zoom Workplace app – Zoom
URL:https://kogbayarea.org/event/sunday-service/2028-01-09/
END:VEVENT
END:VCALENDAR