BEGIN:VCALENDAR
VERSION:2.0
PRODID:-//KOG Bay Area - ECPv6.15.20//NONSGML v1.0//EN
CALSCALE:GREGORIAN
METHOD:PUBLISH
X-ORIGINAL-URL:https://kogbayarea.org
X-WR-CALDESC:Events for KOG Bay Area
REFRESH-INTERVAL;VALUE=DURATION:PT1H
X-Robots-Tag:noindex
X-PUBLISHED-TTL:PT1H
BEGIN:VTIMEZONE
TZID:UTC
BEGIN:STANDARD
TZOFFSETFROM:+0000
TZOFFSETTO:+0000
TZNAME:UTC
DTSTART:20250101T000000
END:STANDARD
END:VTIMEZONE
BEGIN:VEVENT
DTSTART;TZID=UTC:20261122T110000
DTEND;TZID=UTC:20261122T123000
DTSTAMP:20260420T040428
CREATED:20250429T184020Z
LAST-MODIFIED:20251105T200106Z
UID:10000082-1795345200-1795350600@kogbayarea.org
SUMMARY:Sunday Service
DESCRIPTION:Join us for Sunday Service \nJoin from Zoom Workplace app – Zoom
URL:https://kogbayarea.org/event/sunday-service/2026-11-22/
END:VEVENT
BEGIN:VEVENT
DTSTART;TZID=UTC:20261129T110000
DTEND;TZID=UTC:20261129T123000
DTSTAMP:20260420T040428
CREATED:20250429T184020Z
LAST-MODIFIED:20251105T200106Z
UID:10000083-1795950000-1795955400@kogbayarea.org
SUMMARY:Sunday Service
DESCRIPTION:Join us for Sunday Service \nJoin from Zoom Workplace app – Zoom
URL:https://kogbayarea.org/event/sunday-service/2026-11-29/
END:VEVENT
BEGIN:VEVENT
DTSTART;TZID=UTC:20261206T110000
DTEND;TZID=UTC:20261206T123000
DTSTAMP:20260420T040428
CREATED:20250429T184020Z
LAST-MODIFIED:20251105T200106Z
UID:10000084-1796554800-1796560200@kogbayarea.org
SUMMARY:Sunday Service
DESCRIPTION:Join us for Sunday Service \nJoin from Zoom Workplace app – Zoom
URL:https://kogbayarea.org/event/sunday-service/2026-12-06/
END:VEVENT
BEGIN:VEVENT
DTSTART;TZID=UTC:20261213T110000
DTEND;TZID=UTC:20261213T123000
DTSTAMP:20260420T040428
CREATED:20250429T184020Z
LAST-MODIFIED:20251105T200106Z
UID:10000085-1797159600-1797165000@kogbayarea.org
SUMMARY:Sunday Service
DESCRIPTION:Join us for Sunday Service \nJoin from Zoom Workplace app – Zoom
URL:https://kogbayarea.org/event/sunday-service/2026-12-13/
END:VEVENT
BEGIN:VEVENT
DTSTART;TZID=UTC:20261220T110000
DTEND;TZID=UTC:20261220T123000
DTSTAMP:20260420T040428
CREATED:20250429T184020Z
LAST-MODIFIED:20251105T200106Z
UID:10000086-1797764400-1797769800@kogbayarea.org
SUMMARY:Sunday Service
DESCRIPTION:Join us for Sunday Service \nJoin from Zoom Workplace app – Zoom
URL:https://kogbayarea.org/event/sunday-service/2026-12-20/
END:VEVENT
BEGIN:VEVENT
DTSTART;TZID=UTC:20261227T110000
DTEND;TZID=UTC:20261227T123000
DTSTAMP:20260420T040428
CREATED:20250429T184020Z
LAST-MODIFIED:20251105T200106Z
UID:10000087-1798369200-1798374600@kogbayarea.org
SUMMARY:Sunday Service
DESCRIPTION:Join us for Sunday Service \nJoin from Zoom Workplace app – Zoom
URL:https://kogbayarea.org/event/sunday-service/2026-12-27/
END:VEVENT
BEGIN:VEVENT
DTSTART;TZID=UTC:20270103T110000
DTEND;TZID=UTC:20270103T123000
DTSTAMP:20260420T040428
CREATED:20250429T184020Z
LAST-MODIFIED:20251105T200106Z
UID:10000088-1798974000-1798979400@kogbayarea.org
SUMMARY:Sunday Service
DESCRIPTION:Join us for Sunday Service \nJoin from Zoom Workplace app – Zoom
URL:https://kogbayarea.org/event/sunday-service/2027-01-03/
END:VEVENT
BEGIN:VEVENT
DTSTART;TZID=UTC:20270110T110000
DTEND;TZID=UTC:20270110T123000
DTSTAMP:20260420T040428
CREATED:20250429T184020Z
LAST-MODIFIED:20251105T200106Z
UID:10000089-1799578800-1799584200@kogbayarea.org
SUMMARY:Sunday Service
DESCRIPTION:Join us for Sunday Service \nJoin from Zoom Workplace app – Zoom
URL:https://kogbayarea.org/event/sunday-service/2027-01-10/
END:VEVENT
BEGIN:VEVENT
DTSTART;TZID=UTC:20270117T110000
DTEND;TZID=UTC:20270117T123000
DTSTAMP:20260420T040428
CREATED:20250429T184020Z
LAST-MODIFIED:20251105T200106Z
UID:10000090-1800183600-1800189000@kogbayarea.org
SUMMARY:Sunday Service
DESCRIPTION:Join us for Sunday Service \nJoin from Zoom Workplace app – Zoom
URL:https://kogbayarea.org/event/sunday-service/2027-01-17/
END:VEVENT
BEGIN:VEVENT
DTSTART;TZID=UTC:20270124T110000
DTEND;TZID=UTC:20270124T123000
DTSTAMP:20260420T040428
CREATED:20250429T184020Z
LAST-MODIFIED:20251105T200106Z
UID:10000091-1800788400-1800793800@kogbayarea.org
SUMMARY:Sunday Service
DESCRIPTION:Join us for Sunday Service \nJoin from Zoom Workplace app – Zoom
URL:https://kogbayarea.org/event/sunday-service/2027-01-24/
END:VEVENT
BEGIN:VEVENT
DTSTART;TZID=UTC:20270131T110000
DTEND;TZID=UTC:20270131T123000
DTSTAMP:20260420T040428
CREATED:20250429T184020Z
LAST-MODIFIED:20251105T200106Z
UID:10000092-1801393200-1801398600@kogbayarea.org
SUMMARY:Sunday Service
DESCRIPTION:Join us for Sunday Service \nJoin from Zoom Workplace app – Zoom
URL:https://kogbayarea.org/event/sunday-service/2027-01-31/
END:VEVENT
BEGIN:VEVENT
DTSTART;TZID=UTC:20270207T110000
DTEND;TZID=UTC:20270207T123000
DTSTAMP:20260420T040428
CREATED:20250429T184020Z
LAST-MODIFIED:20251105T200106Z
UID:10000093-1801998000-1802003400@kogbayarea.org
SUMMARY:Sunday Service
DESCRIPTION:Join us for Sunday Service \nJoin from Zoom Workplace app – Zoom
URL:https://kogbayarea.org/event/sunday-service/2027-02-07/
END:VEVENT
BEGIN:VEVENT
DTSTART;TZID=UTC:20270214T110000
DTEND;TZID=UTC:20270214T123000
DTSTAMP:20260420T040428
CREATED:20250429T184020Z
LAST-MODIFIED:20251105T200106Z
UID:10000094-1802602800-1802608200@kogbayarea.org
SUMMARY:Sunday Service
DESCRIPTION:Join us for Sunday Service \nJoin from Zoom Workplace app – Zoom
URL:https://kogbayarea.org/event/sunday-service/2027-02-14/
END:VEVENT
BEGIN:VEVENT
DTSTART;TZID=UTC:20270221T110000
DTEND;TZID=UTC:20270221T123000
DTSTAMP:20260420T040428
CREATED:20250429T184020Z
LAST-MODIFIED:20251105T200106Z
UID:10000095-1803207600-1803213000@kogbayarea.org
SUMMARY:Sunday Service
DESCRIPTION:Join us for Sunday Service \nJoin from Zoom Workplace app – Zoom
URL:https://kogbayarea.org/event/sunday-service/2027-02-21/
END:VEVENT
BEGIN:VEVENT
DTSTART;TZID=UTC:20270228T110000
DTEND;TZID=UTC:20270228T123000
DTSTAMP:20260420T040428
CREATED:20250429T184020Z
LAST-MODIFIED:20251105T200106Z
UID:10000096-1803812400-1803817800@kogbayarea.org
SUMMARY:Sunday Service
DESCRIPTION:Join us for Sunday Service \nJoin from Zoom Workplace app – Zoom
URL:https://kogbayarea.org/event/sunday-service/2027-02-28/
END:VEVENT
BEGIN:VEVENT
DTSTART;TZID=UTC:20270307T110000
DTEND;TZID=UTC:20270307T123000
DTSTAMP:20260420T040428
CREATED:20250429T184020Z
LAST-MODIFIED:20251105T200106Z
UID:10000097-1804417200-1804422600@kogbayarea.org
SUMMARY:Sunday Service
DESCRIPTION:Join us for Sunday Service \nJoin from Zoom Workplace app – Zoom
URL:https://kogbayarea.org/event/sunday-service/2027-03-07/
END:VEVENT
BEGIN:VEVENT
DTSTART;TZID=UTC:20270314T110000
DTEND;TZID=UTC:20270314T123000
DTSTAMP:20260420T040428
CREATED:20250429T184020Z
LAST-MODIFIED:20251105T200106Z
UID:10000098-1805022000-1805027400@kogbayarea.org
SUMMARY:Sunday Service
DESCRIPTION:Join us for Sunday Service \nJoin from Zoom Workplace app – Zoom
URL:https://kogbayarea.org/event/sunday-service/2027-03-14/
END:VEVENT
BEGIN:VEVENT
DTSTART;TZID=UTC:20270321T110000
DTEND;TZID=UTC:20270321T123000
DTSTAMP:20260420T040428
CREATED:20250429T184020Z
LAST-MODIFIED:20251105T200106Z
UID:10000099-1805626800-1805632200@kogbayarea.org
SUMMARY:Sunday Service
DESCRIPTION:Join us for Sunday Service \nJoin from Zoom Workplace app – Zoom
URL:https://kogbayarea.org/event/sunday-service/2027-03-21/
END:VEVENT
BEGIN:VEVENT
DTSTART;TZID=UTC:20270328T110000
DTEND;TZID=UTC:20270328T123000
DTSTAMP:20260420T040428
CREATED:20250429T184020Z
LAST-MODIFIED:20251105T200106Z
UID:10000100-1806231600-1806237000@kogbayarea.org
SUMMARY:Sunday Service
DESCRIPTION:Join us for Sunday Service \nJoin from Zoom Workplace app – Zoom
URL:https://kogbayarea.org/event/sunday-service/2027-03-28/
END:VEVENT
BEGIN:VEVENT
DTSTART;TZID=UTC:20270404T110000
DTEND;TZID=UTC:20270404T123000
DTSTAMP:20260420T040428
CREATED:20250429T184020Z
LAST-MODIFIED:20251105T200106Z
UID:10000101-1806836400-1806841800@kogbayarea.org
SUMMARY:Sunday Service
DESCRIPTION:Join us for Sunday Service \nJoin from Zoom Workplace app – Zoom
URL:https://kogbayarea.org/event/sunday-service/2027-04-04/
END:VEVENT
BEGIN:VEVENT
DTSTART;TZID=UTC:20270411T110000
DTEND;TZID=UTC:20270411T123000
DTSTAMP:20260420T040428
CREATED:20250429T184020Z
LAST-MODIFIED:20251105T200106Z
UID:10000102-1807441200-1807446600@kogbayarea.org
SUMMARY:Sunday Service
DESCRIPTION:Join us for Sunday Service \nJoin from Zoom Workplace app – Zoom
URL:https://kogbayarea.org/event/sunday-service/2027-04-11/
END:VEVENT
BEGIN:VEVENT
DTSTART;TZID=UTC:20270418T110000
DTEND;TZID=UTC:20270418T123000
DTSTAMP:20260420T040428
CREATED:20250429T184020Z
LAST-MODIFIED:20251105T200106Z
UID:10000103-1808046000-1808051400@kogbayarea.org
SUMMARY:Sunday Service
DESCRIPTION:Join us for Sunday Service \nJoin from Zoom Workplace app – Zoom
URL:https://kogbayarea.org/event/sunday-service/2027-04-18/
END:VEVENT
BEGIN:VEVENT
DTSTART;TZID=UTC:20270425T110000
DTEND;TZID=UTC:20270425T123000
DTSTAMP:20260420T040428
CREATED:20250429T184020Z
LAST-MODIFIED:20251105T200106Z
UID:10000104-1808650800-1808656200@kogbayarea.org
SUMMARY:Sunday Service
DESCRIPTION:Join us for Sunday Service \nJoin from Zoom Workplace app – Zoom
URL:https://kogbayarea.org/event/sunday-service/2027-04-25/
END:VEVENT
BEGIN:VEVENT
DTSTART;TZID=UTC:20270502T110000
DTEND;TZID=UTC:20270502T123000
DTSTAMP:20260420T040428
CREATED:20250429T184020Z
LAST-MODIFIED:20251105T200106Z
UID:10000105-1809255600-1809261000@kogbayarea.org
SUMMARY:Sunday Service
DESCRIPTION:Join us for Sunday Service \nJoin from Zoom Workplace app – Zoom
URL:https://kogbayarea.org/event/sunday-service/2027-05-02/
END:VEVENT
BEGIN:VEVENT
DTSTART;TZID=UTC:20270509T110000
DTEND;TZID=UTC:20270509T123000
DTSTAMP:20260420T040428
CREATED:20250429T184020Z
LAST-MODIFIED:20251105T200106Z
UID:10000106-1809860400-1809865800@kogbayarea.org
SUMMARY:Sunday Service
DESCRIPTION:Join us for Sunday Service \nJoin from Zoom Workplace app – Zoom
URL:https://kogbayarea.org/event/sunday-service/2027-05-09/
END:VEVENT
BEGIN:VEVENT
DTSTART;TZID=UTC:20270516T110000
DTEND;TZID=UTC:20270516T123000
DTSTAMP:20260420T040428
CREATED:20250429T184020Z
LAST-MODIFIED:20251105T200106Z
UID:10000107-1810465200-1810470600@kogbayarea.org
SUMMARY:Sunday Service
DESCRIPTION:Join us for Sunday Service \nJoin from Zoom Workplace app – Zoom
URL:https://kogbayarea.org/event/sunday-service/2027-05-16/
END:VEVENT
BEGIN:VEVENT
DTSTART;TZID=UTC:20270523T110000
DTEND;TZID=UTC:20270523T123000
DTSTAMP:20260420T040428
CREATED:20250429T184020Z
LAST-MODIFIED:20251105T200106Z
UID:10000108-1811070000-1811075400@kogbayarea.org
SUMMARY:Sunday Service
DESCRIPTION:Join us for Sunday Service \nJoin from Zoom Workplace app – Zoom
URL:https://kogbayarea.org/event/sunday-service/2027-05-23/
END:VEVENT
BEGIN:VEVENT
DTSTART;TZID=UTC:20270530T110000
DTEND;TZID=UTC:20270530T123000
DTSTAMP:20260420T040428
CREATED:20250429T184020Z
LAST-MODIFIED:20251105T200106Z
UID:10000109-1811674800-1811680200@kogbayarea.org
SUMMARY:Sunday Service
DESCRIPTION:Join us for Sunday Service \nJoin from Zoom Workplace app – Zoom
URL:https://kogbayarea.org/event/sunday-service/2027-05-30/
END:VEVENT
BEGIN:VEVENT
DTSTART;TZID=UTC:20270606T110000
DTEND;TZID=UTC:20270606T123000
DTSTAMP:20260420T040429
CREATED:20250429T184020Z
LAST-MODIFIED:20251105T200106Z
UID:10000110-1812279600-1812285000@kogbayarea.org
SUMMARY:Sunday Service
DESCRIPTION:Join us for Sunday Service \nJoin from Zoom Workplace app – Zoom
URL:https://kogbayarea.org/event/sunday-service/2027-06-06/
END:VEVENT
BEGIN:VEVENT
DTSTART;TZID=UTC:20270613T110000
DTEND;TZID=UTC:20270613T123000
DTSTAMP:20260420T040429
CREATED:20250429T184020Z
LAST-MODIFIED:20251105T200106Z
UID:10000111-1812884400-1812889800@kogbayarea.org
SUMMARY:Sunday Service
DESCRIPTION:Join us for Sunday Service \nJoin from Zoom Workplace app – Zoom
URL:https://kogbayarea.org/event/sunday-service/2027-06-13/
END:VEVENT
END:VCALENDAR