BEGIN:VCALENDAR
VERSION:2.0
PRODID:-//KOG Bay Area - ECPv6.15.20//NONSGML v1.0//EN
CALSCALE:GREGORIAN
METHOD:PUBLISH
X-ORIGINAL-URL:https://kogbayarea.org
X-WR-CALDESC:Events for KOG Bay Area
REFRESH-INTERVAL;VALUE=DURATION:PT1H
X-Robots-Tag:noindex
X-PUBLISHED-TTL:PT1H
BEGIN:VTIMEZONE
TZID:UTC
BEGIN:STANDARD
TZOFFSETFROM:+0000
TZOFFSETTO:+0000
TZNAME:UTC
DTSTART:20290101T000000
END:STANDARD
END:VTIMEZONE
BEGIN:VEVENT
DTSTART;TZID=UTC:20300714T110000
DTEND;TZID=UTC:20300714T123000
DTSTAMP:20260421T164139
CREATED:20250429T184020Z
LAST-MODIFIED:20251105T200106Z
UID:10000272-1910257200-1910262600@kogbayarea.org
SUMMARY:Sunday Service
DESCRIPTION:Join us for Sunday Service \nJoin from Zoom Workplace app – Zoom
URL:https://kogbayarea.org/event/sunday-service/2030-07-14/
END:VEVENT
BEGIN:VEVENT
DTSTART;TZID=UTC:20300721T110000
DTEND;TZID=UTC:20300721T123000
DTSTAMP:20260421T164139
CREATED:20250429T184020Z
LAST-MODIFIED:20251105T200106Z
UID:10000273-1910862000-1910867400@kogbayarea.org
SUMMARY:Sunday Service
DESCRIPTION:Join us for Sunday Service \nJoin from Zoom Workplace app – Zoom
URL:https://kogbayarea.org/event/sunday-service/2030-07-21/
END:VEVENT
BEGIN:VEVENT
DTSTART;TZID=UTC:20300728T110000
DTEND;TZID=UTC:20300728T123000
DTSTAMP:20260421T164139
CREATED:20250429T184020Z
LAST-MODIFIED:20251105T200106Z
UID:10000274-1911466800-1911472200@kogbayarea.org
SUMMARY:Sunday Service
DESCRIPTION:Join us for Sunday Service \nJoin from Zoom Workplace app – Zoom
URL:https://kogbayarea.org/event/sunday-service/2030-07-28/
END:VEVENT
BEGIN:VEVENT
DTSTART;TZID=UTC:20300804T110000
DTEND;TZID=UTC:20300804T123000
DTSTAMP:20260421T164139
CREATED:20250429T184020Z
LAST-MODIFIED:20251105T200106Z
UID:10000275-1912071600-1912077000@kogbayarea.org
SUMMARY:Sunday Service
DESCRIPTION:Join us for Sunday Service \nJoin from Zoom Workplace app – Zoom
URL:https://kogbayarea.org/event/sunday-service/2030-08-04/
END:VEVENT
BEGIN:VEVENT
DTSTART;TZID=UTC:20300811T110000
DTEND;TZID=UTC:20300811T123000
DTSTAMP:20260421T164139
CREATED:20250429T184020Z
LAST-MODIFIED:20251105T200106Z
UID:10000276-1912676400-1912681800@kogbayarea.org
SUMMARY:Sunday Service
DESCRIPTION:Join us for Sunday Service \nJoin from Zoom Workplace app – Zoom
URL:https://kogbayarea.org/event/sunday-service/2030-08-11/
END:VEVENT
BEGIN:VEVENT
DTSTART;TZID=UTC:20300818T110000
DTEND;TZID=UTC:20300818T123000
DTSTAMP:20260421T164139
CREATED:20250429T184020Z
LAST-MODIFIED:20251105T200106Z
UID:10000277-1913281200-1913286600@kogbayarea.org
SUMMARY:Sunday Service
DESCRIPTION:Join us for Sunday Service \nJoin from Zoom Workplace app – Zoom
URL:https://kogbayarea.org/event/sunday-service/2030-08-18/
END:VEVENT
BEGIN:VEVENT
DTSTART;TZID=UTC:20300825T110000
DTEND;TZID=UTC:20300825T123000
DTSTAMP:20260421T164139
CREATED:20250429T184020Z
LAST-MODIFIED:20251105T200106Z
UID:10000278-1913886000-1913891400@kogbayarea.org
SUMMARY:Sunday Service
DESCRIPTION:Join us for Sunday Service \nJoin from Zoom Workplace app – Zoom
URL:https://kogbayarea.org/event/sunday-service/2030-08-25/
END:VEVENT
BEGIN:VEVENT
DTSTART;TZID=UTC:20300901T110000
DTEND;TZID=UTC:20300901T123000
DTSTAMP:20260421T164139
CREATED:20250429T184020Z
LAST-MODIFIED:20251105T200106Z
UID:10000279-1914490800-1914496200@kogbayarea.org
SUMMARY:Sunday Service
DESCRIPTION:Join us for Sunday Service \nJoin from Zoom Workplace app – Zoom
URL:https://kogbayarea.org/event/sunday-service/2030-09-01/
END:VEVENT
BEGIN:VEVENT
DTSTART;TZID=UTC:20300908T110000
DTEND;TZID=UTC:20300908T123000
DTSTAMP:20260421T164139
CREATED:20250429T184020Z
LAST-MODIFIED:20251105T200106Z
UID:10000280-1915095600-1915101000@kogbayarea.org
SUMMARY:Sunday Service
DESCRIPTION:Join us for Sunday Service \nJoin from Zoom Workplace app – Zoom
URL:https://kogbayarea.org/event/sunday-service/2030-09-08/
END:VEVENT
BEGIN:VEVENT
DTSTART;TZID=UTC:20300915T110000
DTEND;TZID=UTC:20300915T123000
DTSTAMP:20260421T164139
CREATED:20250429T184020Z
LAST-MODIFIED:20251105T200106Z
UID:10000281-1915700400-1915705800@kogbayarea.org
SUMMARY:Sunday Service
DESCRIPTION:Join us for Sunday Service \nJoin from Zoom Workplace app – Zoom
URL:https://kogbayarea.org/event/sunday-service/2030-09-15/
END:VEVENT
BEGIN:VEVENT
DTSTART;TZID=UTC:20300922T110000
DTEND;TZID=UTC:20300922T123000
DTSTAMP:20260421T164139
CREATED:20250429T184020Z
LAST-MODIFIED:20251105T200106Z
UID:10000282-1916305200-1916310600@kogbayarea.org
SUMMARY:Sunday Service
DESCRIPTION:Join us for Sunday Service \nJoin from Zoom Workplace app – Zoom
URL:https://kogbayarea.org/event/sunday-service/2030-09-22/
END:VEVENT
BEGIN:VEVENT
DTSTART;TZID=UTC:20300929T110000
DTEND;TZID=UTC:20300929T123000
DTSTAMP:20260421T164139
CREATED:20250429T184020Z
LAST-MODIFIED:20251105T200106Z
UID:10000283-1916910000-1916915400@kogbayarea.org
SUMMARY:Sunday Service
DESCRIPTION:Join us for Sunday Service \nJoin from Zoom Workplace app – Zoom
URL:https://kogbayarea.org/event/sunday-service/2030-09-29/
END:VEVENT
BEGIN:VEVENT
DTSTART;TZID=UTC:20301006T110000
DTEND;TZID=UTC:20301006T123000
DTSTAMP:20260421T164139
CREATED:20250429T184020Z
LAST-MODIFIED:20251105T200106Z
UID:10000284-1917514800-1917520200@kogbayarea.org
SUMMARY:Sunday Service
DESCRIPTION:Join us for Sunday Service \nJoin from Zoom Workplace app – Zoom
URL:https://kogbayarea.org/event/sunday-service/2030-10-06/
END:VEVENT
BEGIN:VEVENT
DTSTART;TZID=UTC:20301013T110000
DTEND;TZID=UTC:20301013T123000
DTSTAMP:20260421T164139
CREATED:20250429T184020Z
LAST-MODIFIED:20251105T200106Z
UID:10000285-1918119600-1918125000@kogbayarea.org
SUMMARY:Sunday Service
DESCRIPTION:Join us for Sunday Service \nJoin from Zoom Workplace app – Zoom
URL:https://kogbayarea.org/event/sunday-service/2030-10-13/
END:VEVENT
BEGIN:VEVENT
DTSTART;TZID=UTC:20301020T110000
DTEND;TZID=UTC:20301020T123000
DTSTAMP:20260421T164139
CREATED:20250429T184020Z
LAST-MODIFIED:20251105T200106Z
UID:10000286-1918724400-1918729800@kogbayarea.org
SUMMARY:Sunday Service
DESCRIPTION:Join us for Sunday Service \nJoin from Zoom Workplace app – Zoom
URL:https://kogbayarea.org/event/sunday-service/2030-10-20/
END:VEVENT
BEGIN:VEVENT
DTSTART;TZID=UTC:20301027T110000
DTEND;TZID=UTC:20301027T123000
DTSTAMP:20260421T164139
CREATED:20250429T184020Z
LAST-MODIFIED:20251105T200106Z
UID:10000287-1919329200-1919334600@kogbayarea.org
SUMMARY:Sunday Service
DESCRIPTION:Join us for Sunday Service \nJoin from Zoom Workplace app – Zoom
URL:https://kogbayarea.org/event/sunday-service/2030-10-27/
END:VEVENT
BEGIN:VEVENT
DTSTART;TZID=UTC:20301103T110000
DTEND;TZID=UTC:20301103T123000
DTSTAMP:20260421T164139
CREATED:20250429T184020Z
LAST-MODIFIED:20251105T200106Z
UID:10000288-1919934000-1919939400@kogbayarea.org
SUMMARY:Sunday Service
DESCRIPTION:Join us for Sunday Service \nJoin from Zoom Workplace app – Zoom
URL:https://kogbayarea.org/event/sunday-service/2030-11-03/
END:VEVENT
END:VCALENDAR