BEGIN:VCALENDAR
VERSION:2.0
PRODID:-//KOG Bay Area - ECPv6.15.20//NONSGML v1.0//EN
CALSCALE:GREGORIAN
METHOD:PUBLISH
X-ORIGINAL-URL:https://kogbayarea.org
X-WR-CALDESC:Events for KOG Bay Area
REFRESH-INTERVAL;VALUE=DURATION:PT1H
X-Robots-Tag:noindex
X-PUBLISHED-TTL:PT1H
BEGIN:VTIMEZONE
TZID:UTC
BEGIN:STANDARD
TZOFFSETFROM:+0000
TZOFFSETTO:+0000
TZNAME:UTC
DTSTART:20270101T000000
END:STANDARD
END:VTIMEZONE
BEGIN:VEVENT
DTSTART;TZID=UTC:20281231T110000
DTEND;TZID=UTC:20281231T123000
DTSTAMP:20260421T043218
CREATED:20250429T184020Z
LAST-MODIFIED:20251105T200106Z
UID:10000192-1861873200-1861878600@kogbayarea.org
SUMMARY:Sunday Service
DESCRIPTION:Join us for Sunday Service \nJoin from Zoom Workplace app – Zoom
URL:https://kogbayarea.org/event/sunday-service/2028-12-31/
END:VEVENT
BEGIN:VEVENT
DTSTART;TZID=UTC:20290107T110000
DTEND;TZID=UTC:20290107T123000
DTSTAMP:20260421T043218
CREATED:20250429T184020Z
LAST-MODIFIED:20251105T200106Z
UID:10000193-1862478000-1862483400@kogbayarea.org
SUMMARY:Sunday Service
DESCRIPTION:Join us for Sunday Service \nJoin from Zoom Workplace app – Zoom
URL:https://kogbayarea.org/event/sunday-service/2029-01-07/
END:VEVENT
BEGIN:VEVENT
DTSTART;TZID=UTC:20290114T110000
DTEND;TZID=UTC:20290114T123000
DTSTAMP:20260421T043218
CREATED:20250429T184020Z
LAST-MODIFIED:20251105T200106Z
UID:10000194-1863082800-1863088200@kogbayarea.org
SUMMARY:Sunday Service
DESCRIPTION:Join us for Sunday Service \nJoin from Zoom Workplace app – Zoom
URL:https://kogbayarea.org/event/sunday-service/2029-01-14/
END:VEVENT
BEGIN:VEVENT
DTSTART;TZID=UTC:20290121T110000
DTEND;TZID=UTC:20290121T123000
DTSTAMP:20260421T043218
CREATED:20250429T184020Z
LAST-MODIFIED:20251105T200106Z
UID:10000195-1863687600-1863693000@kogbayarea.org
SUMMARY:Sunday Service
DESCRIPTION:Join us for Sunday Service \nJoin from Zoom Workplace app – Zoom
URL:https://kogbayarea.org/event/sunday-service/2029-01-21/
END:VEVENT
BEGIN:VEVENT
DTSTART;TZID=UTC:20290128T110000
DTEND;TZID=UTC:20290128T123000
DTSTAMP:20260421T043218
CREATED:20250429T184020Z
LAST-MODIFIED:20251105T200106Z
UID:10000196-1864292400-1864297800@kogbayarea.org
SUMMARY:Sunday Service
DESCRIPTION:Join us for Sunday Service \nJoin from Zoom Workplace app – Zoom
URL:https://kogbayarea.org/event/sunday-service/2029-01-28/
END:VEVENT
BEGIN:VEVENT
DTSTART;TZID=UTC:20290204T110000
DTEND;TZID=UTC:20290204T123000
DTSTAMP:20260421T043218
CREATED:20250429T184020Z
LAST-MODIFIED:20251105T200106Z
UID:10000197-1864897200-1864902600@kogbayarea.org
SUMMARY:Sunday Service
DESCRIPTION:Join us for Sunday Service \nJoin from Zoom Workplace app – Zoom
URL:https://kogbayarea.org/event/sunday-service/2029-02-04/
END:VEVENT
BEGIN:VEVENT
DTSTART;TZID=UTC:20290211T110000
DTEND;TZID=UTC:20290211T123000
DTSTAMP:20260421T043218
CREATED:20250429T184020Z
LAST-MODIFIED:20251105T200106Z
UID:10000198-1865502000-1865507400@kogbayarea.org
SUMMARY:Sunday Service
DESCRIPTION:Join us for Sunday Service \nJoin from Zoom Workplace app – Zoom
URL:https://kogbayarea.org/event/sunday-service/2029-02-11/
END:VEVENT
BEGIN:VEVENT
DTSTART;TZID=UTC:20290218T110000
DTEND;TZID=UTC:20290218T123000
DTSTAMP:20260421T043218
CREATED:20250429T184020Z
LAST-MODIFIED:20251105T200106Z
UID:10000199-1866106800-1866112200@kogbayarea.org
SUMMARY:Sunday Service
DESCRIPTION:Join us for Sunday Service \nJoin from Zoom Workplace app – Zoom
URL:https://kogbayarea.org/event/sunday-service/2029-02-18/
END:VEVENT
BEGIN:VEVENT
DTSTART;TZID=UTC:20290225T110000
DTEND;TZID=UTC:20290225T123000
DTSTAMP:20260421T043218
CREATED:20250429T184020Z
LAST-MODIFIED:20251105T200106Z
UID:10000200-1866711600-1866717000@kogbayarea.org
SUMMARY:Sunday Service
DESCRIPTION:Join us for Sunday Service \nJoin from Zoom Workplace app – Zoom
URL:https://kogbayarea.org/event/sunday-service/2029-02-25/
END:VEVENT
BEGIN:VEVENT
DTSTART;TZID=UTC:20290304T110000
DTEND;TZID=UTC:20290304T123000
DTSTAMP:20260421T043218
CREATED:20250429T184020Z
LAST-MODIFIED:20251105T200106Z
UID:10000201-1867316400-1867321800@kogbayarea.org
SUMMARY:Sunday Service
DESCRIPTION:Join us for Sunday Service \nJoin from Zoom Workplace app – Zoom
URL:https://kogbayarea.org/event/sunday-service/2029-03-04/
END:VEVENT
BEGIN:VEVENT
DTSTART;TZID=UTC:20290311T110000
DTEND;TZID=UTC:20290311T123000
DTSTAMP:20260421T043218
CREATED:20250429T184020Z
LAST-MODIFIED:20251105T200106Z
UID:10000202-1867921200-1867926600@kogbayarea.org
SUMMARY:Sunday Service
DESCRIPTION:Join us for Sunday Service \nJoin from Zoom Workplace app – Zoom
URL:https://kogbayarea.org/event/sunday-service/2029-03-11/
END:VEVENT
BEGIN:VEVENT
DTSTART;TZID=UTC:20290318T110000
DTEND;TZID=UTC:20290318T123000
DTSTAMP:20260421T043218
CREATED:20250429T184020Z
LAST-MODIFIED:20251105T200106Z
UID:10000203-1868526000-1868531400@kogbayarea.org
SUMMARY:Sunday Service
DESCRIPTION:Join us for Sunday Service \nJoin from Zoom Workplace app – Zoom
URL:https://kogbayarea.org/event/sunday-service/2029-03-18/
END:VEVENT
BEGIN:VEVENT
DTSTART;TZID=UTC:20290325T110000
DTEND;TZID=UTC:20290325T123000
DTSTAMP:20260421T043218
CREATED:20250429T184020Z
LAST-MODIFIED:20251105T200106Z
UID:10000204-1869130800-1869136200@kogbayarea.org
SUMMARY:Sunday Service
DESCRIPTION:Join us for Sunday Service \nJoin from Zoom Workplace app – Zoom
URL:https://kogbayarea.org/event/sunday-service/2029-03-25/
END:VEVENT
BEGIN:VEVENT
DTSTART;TZID=UTC:20290401T110000
DTEND;TZID=UTC:20290401T123000
DTSTAMP:20260421T043218
CREATED:20250429T184020Z
LAST-MODIFIED:20251105T200106Z
UID:10000205-1869735600-1869741000@kogbayarea.org
SUMMARY:Sunday Service
DESCRIPTION:Join us for Sunday Service \nJoin from Zoom Workplace app – Zoom
URL:https://kogbayarea.org/event/sunday-service/2029-04-01/
END:VEVENT
BEGIN:VEVENT
DTSTART;TZID=UTC:20290408T110000
DTEND;TZID=UTC:20290408T123000
DTSTAMP:20260421T043218
CREATED:20250429T184020Z
LAST-MODIFIED:20251105T200106Z
UID:10000206-1870340400-1870345800@kogbayarea.org
SUMMARY:Sunday Service
DESCRIPTION:Join us for Sunday Service \nJoin from Zoom Workplace app – Zoom
URL:https://kogbayarea.org/event/sunday-service/2029-04-08/
END:VEVENT
BEGIN:VEVENT
DTSTART;TZID=UTC:20290415T110000
DTEND;TZID=UTC:20290415T123000
DTSTAMP:20260421T043218
CREATED:20250429T184020Z
LAST-MODIFIED:20251105T200106Z
UID:10000207-1870945200-1870950600@kogbayarea.org
SUMMARY:Sunday Service
DESCRIPTION:Join us for Sunday Service \nJoin from Zoom Workplace app – Zoom
URL:https://kogbayarea.org/event/sunday-service/2029-04-15/
END:VEVENT
BEGIN:VEVENT
DTSTART;TZID=UTC:20290422T110000
DTEND;TZID=UTC:20290422T123000
DTSTAMP:20260421T043218
CREATED:20250429T184020Z
LAST-MODIFIED:20251105T200106Z
UID:10000208-1871550000-1871555400@kogbayarea.org
SUMMARY:Sunday Service
DESCRIPTION:Join us for Sunday Service \nJoin from Zoom Workplace app – Zoom
URL:https://kogbayarea.org/event/sunday-service/2029-04-22/
END:VEVENT
BEGIN:VEVENT
DTSTART;TZID=UTC:20290429T110000
DTEND;TZID=UTC:20290429T123000
DTSTAMP:20260421T043218
CREATED:20250429T184020Z
LAST-MODIFIED:20251105T200106Z
UID:10000209-1872154800-1872160200@kogbayarea.org
SUMMARY:Sunday Service
DESCRIPTION:Join us for Sunday Service \nJoin from Zoom Workplace app – Zoom
URL:https://kogbayarea.org/event/sunday-service/2029-04-29/
END:VEVENT
BEGIN:VEVENT
DTSTART;TZID=UTC:20290506T110000
DTEND;TZID=UTC:20290506T123000
DTSTAMP:20260421T043218
CREATED:20250429T184020Z
LAST-MODIFIED:20251105T200106Z
UID:10000210-1872759600-1872765000@kogbayarea.org
SUMMARY:Sunday Service
DESCRIPTION:Join us for Sunday Service \nJoin from Zoom Workplace app – Zoom
URL:https://kogbayarea.org/event/sunday-service/2029-05-06/
END:VEVENT
BEGIN:VEVENT
DTSTART;TZID=UTC:20290513T110000
DTEND;TZID=UTC:20290513T123000
DTSTAMP:20260421T043218
CREATED:20250429T184020Z
LAST-MODIFIED:20251105T200106Z
UID:10000211-1873364400-1873369800@kogbayarea.org
SUMMARY:Sunday Service
DESCRIPTION:Join us for Sunday Service \nJoin from Zoom Workplace app – Zoom
URL:https://kogbayarea.org/event/sunday-service/2029-05-13/
END:VEVENT
BEGIN:VEVENT
DTSTART;TZID=UTC:20290520T110000
DTEND;TZID=UTC:20290520T123000
DTSTAMP:20260421T043218
CREATED:20250429T184020Z
LAST-MODIFIED:20251105T200106Z
UID:10000212-1873969200-1873974600@kogbayarea.org
SUMMARY:Sunday Service
DESCRIPTION:Join us for Sunday Service \nJoin from Zoom Workplace app – Zoom
URL:https://kogbayarea.org/event/sunday-service/2029-05-20/
END:VEVENT
BEGIN:VEVENT
DTSTART;TZID=UTC:20290527T110000
DTEND;TZID=UTC:20290527T123000
DTSTAMP:20260421T043218
CREATED:20250429T184020Z
LAST-MODIFIED:20251105T200106Z
UID:10000213-1874574000-1874579400@kogbayarea.org
SUMMARY:Sunday Service
DESCRIPTION:Join us for Sunday Service \nJoin from Zoom Workplace app – Zoom
URL:https://kogbayarea.org/event/sunday-service/2029-05-27/
END:VEVENT
BEGIN:VEVENT
DTSTART;TZID=UTC:20290603T110000
DTEND;TZID=UTC:20290603T123000
DTSTAMP:20260421T043218
CREATED:20250429T184020Z
LAST-MODIFIED:20251105T200106Z
UID:10000214-1875178800-1875184200@kogbayarea.org
SUMMARY:Sunday Service
DESCRIPTION:Join us for Sunday Service \nJoin from Zoom Workplace app – Zoom
URL:https://kogbayarea.org/event/sunday-service/2029-06-03/
END:VEVENT
BEGIN:VEVENT
DTSTART;TZID=UTC:20290610T110000
DTEND;TZID=UTC:20290610T123000
DTSTAMP:20260421T043218
CREATED:20250429T184020Z
LAST-MODIFIED:20251105T200106Z
UID:10000215-1875783600-1875789000@kogbayarea.org
SUMMARY:Sunday Service
DESCRIPTION:Join us for Sunday Service \nJoin from Zoom Workplace app – Zoom
URL:https://kogbayarea.org/event/sunday-service/2029-06-10/
END:VEVENT
BEGIN:VEVENT
DTSTART;TZID=UTC:20290617T110000
DTEND;TZID=UTC:20290617T123000
DTSTAMP:20260421T043218
CREATED:20250429T184020Z
LAST-MODIFIED:20251105T200106Z
UID:10000216-1876388400-1876393800@kogbayarea.org
SUMMARY:Sunday Service
DESCRIPTION:Join us for Sunday Service \nJoin from Zoom Workplace app – Zoom
URL:https://kogbayarea.org/event/sunday-service/2029-06-17/
END:VEVENT
BEGIN:VEVENT
DTSTART;TZID=UTC:20290624T110000
DTEND;TZID=UTC:20290624T123000
DTSTAMP:20260421T043218
CREATED:20250429T184020Z
LAST-MODIFIED:20251105T200106Z
UID:10000217-1876993200-1876998600@kogbayarea.org
SUMMARY:Sunday Service
DESCRIPTION:Join us for Sunday Service \nJoin from Zoom Workplace app – Zoom
URL:https://kogbayarea.org/event/sunday-service/2029-06-24/
END:VEVENT
BEGIN:VEVENT
DTSTART;TZID=UTC:20290701T110000
DTEND;TZID=UTC:20290701T123000
DTSTAMP:20260421T043218
CREATED:20250429T184020Z
LAST-MODIFIED:20251105T200106Z
UID:10000218-1877598000-1877603400@kogbayarea.org
SUMMARY:Sunday Service
DESCRIPTION:Join us for Sunday Service \nJoin from Zoom Workplace app – Zoom
URL:https://kogbayarea.org/event/sunday-service/2029-07-01/
END:VEVENT
BEGIN:VEVENT
DTSTART;TZID=UTC:20290708T110000
DTEND;TZID=UTC:20290708T123000
DTSTAMP:20260421T043218
CREATED:20250429T184020Z
LAST-MODIFIED:20251105T200106Z
UID:10000219-1878202800-1878208200@kogbayarea.org
SUMMARY:Sunday Service
DESCRIPTION:Join us for Sunday Service \nJoin from Zoom Workplace app – Zoom
URL:https://kogbayarea.org/event/sunday-service/2029-07-08/
END:VEVENT
BEGIN:VEVENT
DTSTART;TZID=UTC:20290715T110000
DTEND;TZID=UTC:20290715T123000
DTSTAMP:20260421T043218
CREATED:20250429T184020Z
LAST-MODIFIED:20251105T200106Z
UID:10000220-1878807600-1878813000@kogbayarea.org
SUMMARY:Sunday Service
DESCRIPTION:Join us for Sunday Service \nJoin from Zoom Workplace app – Zoom
URL:https://kogbayarea.org/event/sunday-service/2029-07-15/
END:VEVENT
BEGIN:VEVENT
DTSTART;TZID=UTC:20290722T110000
DTEND;TZID=UTC:20290722T123000
DTSTAMP:20260421T043218
CREATED:20250429T184020Z
LAST-MODIFIED:20251105T200106Z
UID:10000221-1879412400-1879417800@kogbayarea.org
SUMMARY:Sunday Service
DESCRIPTION:Join us for Sunday Service \nJoin from Zoom Workplace app – Zoom
URL:https://kogbayarea.org/event/sunday-service/2029-07-22/
END:VEVENT
END:VCALENDAR