BEGIN:VCALENDAR
VERSION:2.0
PRODID:-//KOG Bay Area - ECPv6.15.20//NONSGML v1.0//EN
CALSCALE:GREGORIAN
METHOD:PUBLISH
X-WR-CALNAME:KOG Bay Area
X-ORIGINAL-URL:https://kogbayarea.org
X-WR-CALDESC:Events for KOG Bay Area
REFRESH-INTERVAL;VALUE=DURATION:PT1H
X-Robots-Tag:noindex
X-PUBLISHED-TTL:PT1H
BEGIN:VTIMEZONE
TZID:UTC
BEGIN:STANDARD
TZOFFSETFROM:+0000
TZOFFSETTO:+0000
TZNAME:UTC
DTSTART:20240101T000000
END:STANDARD
END:VTIMEZONE
BEGIN:VEVENT
DTSTART;TZID=UTC:20250713T110000
DTEND;TZID=UTC:20250713T123000
DTSTAMP:20260420T035356
CREATED:20250429T184020Z
LAST-MODIFIED:20251105T200106Z
UID:10000011-1752404400-1752409800@kogbayarea.org
SUMMARY:Sunday Service
DESCRIPTION:Join us for Sunday Service \nJoin from Zoom Workplace app – Zoom
URL:https://kogbayarea.org/event/sunday-service/2025-07-13/
END:VEVENT
BEGIN:VEVENT
DTSTART;TZID=UTC:20250706T110000
DTEND;TZID=UTC:20250706T123000
DTSTAMP:20260420T035356
CREATED:20250429T184020Z
LAST-MODIFIED:20251105T200106Z
UID:10000010-1751799600-1751805000@kogbayarea.org
SUMMARY:Sunday Service
DESCRIPTION:Join us for Sunday Service \nJoin from Zoom Workplace app – Zoom
URL:https://kogbayarea.org/event/sunday-service/2025-07-06/
END:VEVENT
BEGIN:VEVENT
DTSTART;TZID=UTC:20250629T110000
DTEND;TZID=UTC:20250629T123000
DTSTAMP:20260420T035356
CREATED:20250429T184020Z
LAST-MODIFIED:20251105T200106Z
UID:10000009-1751194800-1751200200@kogbayarea.org
SUMMARY:Sunday Service
DESCRIPTION:Join us for Sunday Service \nJoin from Zoom Workplace app – Zoom
URL:https://kogbayarea.org/event/sunday-service/2025-06-29/
END:VEVENT
BEGIN:VEVENT
DTSTART;TZID=UTC:20250622T110000
DTEND;TZID=UTC:20250622T123000
DTSTAMP:20260420T035356
CREATED:20250429T184020Z
LAST-MODIFIED:20251105T200106Z
UID:10000008-1750590000-1750595400@kogbayarea.org
SUMMARY:Sunday Service
DESCRIPTION:Join us for Sunday Service \nJoin from Zoom Workplace app – Zoom
URL:https://kogbayarea.org/event/sunday-service/2025-06-22/
END:VEVENT
BEGIN:VEVENT
DTSTART;TZID=UTC:20250615T110000
DTEND;TZID=UTC:20250615T123000
DTSTAMP:20260420T035356
CREATED:20250429T184020Z
LAST-MODIFIED:20251105T200106Z
UID:10000007-1749985200-1749990600@kogbayarea.org
SUMMARY:Sunday Service
DESCRIPTION:Join us for Sunday Service \nJoin from Zoom Workplace app – Zoom
URL:https://kogbayarea.org/event/sunday-service/2025-06-15/
END:VEVENT
BEGIN:VEVENT
DTSTART;TZID=UTC:20250608T110000
DTEND;TZID=UTC:20250608T123000
DTSTAMP:20260420T035356
CREATED:20250429T184020Z
LAST-MODIFIED:20251105T200106Z
UID:10000006-1749380400-1749385800@kogbayarea.org
SUMMARY:Sunday Service
DESCRIPTION:Join us for Sunday Service \nJoin from Zoom Workplace app – Zoom
URL:https://kogbayarea.org/event/sunday-service/2025-06-08/
END:VEVENT
BEGIN:VEVENT
DTSTART;TZID=UTC:20250601T110000
DTEND;TZID=UTC:20250601T123000
DTSTAMP:20260420T035356
CREATED:20250429T184020Z
LAST-MODIFIED:20251105T200106Z
UID:10000005-1748775600-1748781000@kogbayarea.org
SUMMARY:Sunday Service
DESCRIPTION:Join us for Sunday Service \nJoin from Zoom Workplace app – Zoom
URL:https://kogbayarea.org/event/sunday-service/2025-06-01/
END:VEVENT
BEGIN:VEVENT
DTSTART;TZID=UTC:20250525T110000
DTEND;TZID=UTC:20250525T123000
DTSTAMP:20260420T035356
CREATED:20250429T184020Z
LAST-MODIFIED:20251105T200106Z
UID:10000004-1748170800-1748176200@kogbayarea.org
SUMMARY:Sunday Service
DESCRIPTION:Join us for Sunday Service \nJoin from Zoom Workplace app – Zoom
URL:https://kogbayarea.org/event/sunday-service/2025-05-25/
END:VEVENT
BEGIN:VEVENT
DTSTART;TZID=UTC:20250518T110000
DTEND;TZID=UTC:20250518T123000
DTSTAMP:20260420T035356
CREATED:20250429T184020Z
LAST-MODIFIED:20251105T200106Z
UID:10000003-1747566000-1747571400@kogbayarea.org
SUMMARY:Sunday Service
DESCRIPTION:Join us for Sunday Service \nJoin from Zoom Workplace app – Zoom
URL:https://kogbayarea.org/event/sunday-service/2025-05-18/
END:VEVENT
BEGIN:VEVENT
DTSTART;TZID=UTC:20250511T110000
DTEND;TZID=UTC:20250511T123000
DTSTAMP:20260420T035356
CREATED:20250429T184020Z
LAST-MODIFIED:20251105T200106Z
UID:10000002-1746961200-1746966600@kogbayarea.org
SUMMARY:Sunday Service
DESCRIPTION:Join us for Sunday Service \nJoin from Zoom Workplace app – Zoom
URL:https://kogbayarea.org/event/sunday-service/2025-05-11/
END:VEVENT
BEGIN:VEVENT
DTSTART;TZID=UTC:20250504T110000
DTEND;TZID=UTC:20250504T123000
DTSTAMP:20260420T035356
CREATED:20250429T184020Z
LAST-MODIFIED:20251105T200106Z
UID:10000001-1746356400-1746361800@kogbayarea.org
SUMMARY:Sunday Service
DESCRIPTION:Join us for Sunday Service \nJoin from Zoom Workplace app – Zoom
URL:https://kogbayarea.org/event/sunday-service/2025-05-04/
END:VEVENT
END:VCALENDAR