BEGIN:VCALENDAR
VERSION:2.0
PRODID:-//KOG Bay Area - ECPv6.15.20//NONSGML v1.0//EN
CALSCALE:GREGORIAN
METHOD:PUBLISH
X-ORIGINAL-URL:https://kogbayarea.org
X-WR-CALDESC:Events for KOG Bay Area
REFRESH-INTERVAL;VALUE=DURATION:PT1H
X-Robots-Tag:noindex
X-PUBLISHED-TTL:PT1H
BEGIN:VTIMEZONE
TZID:UTC
BEGIN:STANDARD
TZOFFSETFROM:+0000
TZOFFSETTO:+0000
TZNAME:UTC
DTSTART:20290101T000000
END:STANDARD
END:VTIMEZONE
BEGIN:VEVENT
DTSTART;TZID=UTC:20300224T110000
DTEND;TZID=UTC:20300224T123000
DTSTAMP:20260421T120647
CREATED:20250429T184020Z
LAST-MODIFIED:20251105T200106Z
UID:10000252-1898161200-1898166600@kogbayarea.org
SUMMARY:Sunday Service
DESCRIPTION:Join us for Sunday Service \nJoin from Zoom Workplace app – Zoom
URL:https://kogbayarea.org/event/sunday-service/2030-02-24/
END:VEVENT
BEGIN:VEVENT
DTSTART;TZID=UTC:20300303T110000
DTEND;TZID=UTC:20300303T123000
DTSTAMP:20260421T120647
CREATED:20250429T184020Z
LAST-MODIFIED:20251105T200106Z
UID:10000253-1898766000-1898771400@kogbayarea.org
SUMMARY:Sunday Service
DESCRIPTION:Join us for Sunday Service \nJoin from Zoom Workplace app – Zoom
URL:https://kogbayarea.org/event/sunday-service/2030-03-03/
END:VEVENT
BEGIN:VEVENT
DTSTART;TZID=UTC:20300310T110000
DTEND;TZID=UTC:20300310T123000
DTSTAMP:20260421T120647
CREATED:20250429T184020Z
LAST-MODIFIED:20251105T200106Z
UID:10000254-1899370800-1899376200@kogbayarea.org
SUMMARY:Sunday Service
DESCRIPTION:Join us for Sunday Service \nJoin from Zoom Workplace app – Zoom
URL:https://kogbayarea.org/event/sunday-service/2030-03-10/
END:VEVENT
BEGIN:VEVENT
DTSTART;TZID=UTC:20300317T110000
DTEND;TZID=UTC:20300317T123000
DTSTAMP:20260421T120647
CREATED:20250429T184020Z
LAST-MODIFIED:20251105T200106Z
UID:10000255-1899975600-1899981000@kogbayarea.org
SUMMARY:Sunday Service
DESCRIPTION:Join us for Sunday Service \nJoin from Zoom Workplace app – Zoom
URL:https://kogbayarea.org/event/sunday-service/2030-03-17/
END:VEVENT
BEGIN:VEVENT
DTSTART;TZID=UTC:20300324T110000
DTEND;TZID=UTC:20300324T123000
DTSTAMP:20260421T120647
CREATED:20250429T184020Z
LAST-MODIFIED:20251105T200106Z
UID:10000256-1900580400-1900585800@kogbayarea.org
SUMMARY:Sunday Service
DESCRIPTION:Join us for Sunday Service \nJoin from Zoom Workplace app – Zoom
URL:https://kogbayarea.org/event/sunday-service/2030-03-24/
END:VEVENT
BEGIN:VEVENT
DTSTART;TZID=UTC:20300331T110000
DTEND;TZID=UTC:20300331T123000
DTSTAMP:20260421T120647
CREATED:20250429T184020Z
LAST-MODIFIED:20251105T200106Z
UID:10000257-1901185200-1901190600@kogbayarea.org
SUMMARY:Sunday Service
DESCRIPTION:Join us for Sunday Service \nJoin from Zoom Workplace app – Zoom
URL:https://kogbayarea.org/event/sunday-service/2030-03-31/
END:VEVENT
BEGIN:VEVENT
DTSTART;TZID=UTC:20300407T110000
DTEND;TZID=UTC:20300407T123000
DTSTAMP:20260421T120647
CREATED:20250429T184020Z
LAST-MODIFIED:20251105T200106Z
UID:10000258-1901790000-1901795400@kogbayarea.org
SUMMARY:Sunday Service
DESCRIPTION:Join us for Sunday Service \nJoin from Zoom Workplace app – Zoom
URL:https://kogbayarea.org/event/sunday-service/2030-04-07/
END:VEVENT
BEGIN:VEVENT
DTSTART;TZID=UTC:20300414T110000
DTEND;TZID=UTC:20300414T123000
DTSTAMP:20260421T120647
CREATED:20250429T184020Z
LAST-MODIFIED:20251105T200106Z
UID:10000259-1902394800-1902400200@kogbayarea.org
SUMMARY:Sunday Service
DESCRIPTION:Join us for Sunday Service \nJoin from Zoom Workplace app – Zoom
URL:https://kogbayarea.org/event/sunday-service/2030-04-14/
END:VEVENT
BEGIN:VEVENT
DTSTART;TZID=UTC:20300421T110000
DTEND;TZID=UTC:20300421T123000
DTSTAMP:20260421T120647
CREATED:20250429T184020Z
LAST-MODIFIED:20251105T200106Z
UID:10000260-1902999600-1903005000@kogbayarea.org
SUMMARY:Sunday Service
DESCRIPTION:Join us for Sunday Service \nJoin from Zoom Workplace app – Zoom
URL:https://kogbayarea.org/event/sunday-service/2030-04-21/
END:VEVENT
BEGIN:VEVENT
DTSTART;TZID=UTC:20300428T110000
DTEND;TZID=UTC:20300428T123000
DTSTAMP:20260421T120647
CREATED:20250429T184020Z
LAST-MODIFIED:20251105T200106Z
UID:10000261-1903604400-1903609800@kogbayarea.org
SUMMARY:Sunday Service
DESCRIPTION:Join us for Sunday Service \nJoin from Zoom Workplace app – Zoom
URL:https://kogbayarea.org/event/sunday-service/2030-04-28/
END:VEVENT
BEGIN:VEVENT
DTSTART;TZID=UTC:20300505T110000
DTEND;TZID=UTC:20300505T123000
DTSTAMP:20260421T120647
CREATED:20250429T184020Z
LAST-MODIFIED:20251105T200106Z
UID:10000262-1904209200-1904214600@kogbayarea.org
SUMMARY:Sunday Service
DESCRIPTION:Join us for Sunday Service \nJoin from Zoom Workplace app – Zoom
URL:https://kogbayarea.org/event/sunday-service/2030-05-05/
END:VEVENT
BEGIN:VEVENT
DTSTART;TZID=UTC:20300512T110000
DTEND;TZID=UTC:20300512T123000
DTSTAMP:20260421T120647
CREATED:20250429T184020Z
LAST-MODIFIED:20251105T200106Z
UID:10000263-1904814000-1904819400@kogbayarea.org
SUMMARY:Sunday Service
DESCRIPTION:Join us for Sunday Service \nJoin from Zoom Workplace app – Zoom
URL:https://kogbayarea.org/event/sunday-service/2030-05-12/
END:VEVENT
BEGIN:VEVENT
DTSTART;TZID=UTC:20300519T110000
DTEND;TZID=UTC:20300519T123000
DTSTAMP:20260421T120647
CREATED:20250429T184020Z
LAST-MODIFIED:20251105T200106Z
UID:10000264-1905418800-1905424200@kogbayarea.org
SUMMARY:Sunday Service
DESCRIPTION:Join us for Sunday Service \nJoin from Zoom Workplace app – Zoom
URL:https://kogbayarea.org/event/sunday-service/2030-05-19/
END:VEVENT
BEGIN:VEVENT
DTSTART;TZID=UTC:20300526T110000
DTEND;TZID=UTC:20300526T123000
DTSTAMP:20260421T120647
CREATED:20250429T184020Z
LAST-MODIFIED:20251105T200106Z
UID:10000265-1906023600-1906029000@kogbayarea.org
SUMMARY:Sunday Service
DESCRIPTION:Join us for Sunday Service \nJoin from Zoom Workplace app – Zoom
URL:https://kogbayarea.org/event/sunday-service/2030-05-26/
END:VEVENT
BEGIN:VEVENT
DTSTART;TZID=UTC:20300602T110000
DTEND;TZID=UTC:20300602T123000
DTSTAMP:20260421T120647
CREATED:20250429T184020Z
LAST-MODIFIED:20251105T200106Z
UID:10000266-1906628400-1906633800@kogbayarea.org
SUMMARY:Sunday Service
DESCRIPTION:Join us for Sunday Service \nJoin from Zoom Workplace app – Zoom
URL:https://kogbayarea.org/event/sunday-service/2030-06-02/
END:VEVENT
BEGIN:VEVENT
DTSTART;TZID=UTC:20300609T110000
DTEND;TZID=UTC:20300609T123000
DTSTAMP:20260421T120647
CREATED:20250429T184020Z
LAST-MODIFIED:20251105T200106Z
UID:10000267-1907233200-1907238600@kogbayarea.org
SUMMARY:Sunday Service
DESCRIPTION:Join us for Sunday Service \nJoin from Zoom Workplace app – Zoom
URL:https://kogbayarea.org/event/sunday-service/2030-06-09/
END:VEVENT
BEGIN:VEVENT
DTSTART;TZID=UTC:20300616T110000
DTEND;TZID=UTC:20300616T123000
DTSTAMP:20260421T120647
CREATED:20250429T184020Z
LAST-MODIFIED:20251105T200106Z
UID:10000268-1907838000-1907843400@kogbayarea.org
SUMMARY:Sunday Service
DESCRIPTION:Join us for Sunday Service \nJoin from Zoom Workplace app – Zoom
URL:https://kogbayarea.org/event/sunday-service/2030-06-16/
END:VEVENT
BEGIN:VEVENT
DTSTART;TZID=UTC:20300623T110000
DTEND;TZID=UTC:20300623T123000
DTSTAMP:20260421T120647
CREATED:20250429T184020Z
LAST-MODIFIED:20251105T200106Z
UID:10000269-1908442800-1908448200@kogbayarea.org
SUMMARY:Sunday Service
DESCRIPTION:Join us for Sunday Service \nJoin from Zoom Workplace app – Zoom
URL:https://kogbayarea.org/event/sunday-service/2030-06-23/
END:VEVENT
BEGIN:VEVENT
DTSTART;TZID=UTC:20300630T110000
DTEND;TZID=UTC:20300630T123000
DTSTAMP:20260421T120647
CREATED:20250429T184020Z
LAST-MODIFIED:20251105T200106Z
UID:10000270-1909047600-1909053000@kogbayarea.org
SUMMARY:Sunday Service
DESCRIPTION:Join us for Sunday Service \nJoin from Zoom Workplace app – Zoom
URL:https://kogbayarea.org/event/sunday-service/2030-06-30/
END:VEVENT
BEGIN:VEVENT
DTSTART;TZID=UTC:20300707T110000
DTEND;TZID=UTC:20300707T123000
DTSTAMP:20260421T120647
CREATED:20250429T184020Z
LAST-MODIFIED:20251105T200106Z
UID:10000271-1909652400-1909657800@kogbayarea.org
SUMMARY:Sunday Service
DESCRIPTION:Join us for Sunday Service \nJoin from Zoom Workplace app – Zoom
URL:https://kogbayarea.org/event/sunday-service/2030-07-07/
END:VEVENT
BEGIN:VEVENT
DTSTART;TZID=UTC:20300714T110000
DTEND;TZID=UTC:20300714T123000
DTSTAMP:20260421T120647
CREATED:20250429T184020Z
LAST-MODIFIED:20251105T200106Z
UID:10000272-1910257200-1910262600@kogbayarea.org
SUMMARY:Sunday Service
DESCRIPTION:Join us for Sunday Service \nJoin from Zoom Workplace app – Zoom
URL:https://kogbayarea.org/event/sunday-service/2030-07-14/
END:VEVENT
BEGIN:VEVENT
DTSTART;TZID=UTC:20300721T110000
DTEND;TZID=UTC:20300721T123000
DTSTAMP:20260421T120647
CREATED:20250429T184020Z
LAST-MODIFIED:20251105T200106Z
UID:10000273-1910862000-1910867400@kogbayarea.org
SUMMARY:Sunday Service
DESCRIPTION:Join us for Sunday Service \nJoin from Zoom Workplace app – Zoom
URL:https://kogbayarea.org/event/sunday-service/2030-07-21/
END:VEVENT
BEGIN:VEVENT
DTSTART;TZID=UTC:20300728T110000
DTEND;TZID=UTC:20300728T123000
DTSTAMP:20260421T120647
CREATED:20250429T184020Z
LAST-MODIFIED:20251105T200106Z
UID:10000274-1911466800-1911472200@kogbayarea.org
SUMMARY:Sunday Service
DESCRIPTION:Join us for Sunday Service \nJoin from Zoom Workplace app – Zoom
URL:https://kogbayarea.org/event/sunday-service/2030-07-28/
END:VEVENT
BEGIN:VEVENT
DTSTART;TZID=UTC:20300804T110000
DTEND;TZID=UTC:20300804T123000
DTSTAMP:20260421T120647
CREATED:20250429T184020Z
LAST-MODIFIED:20251105T200106Z
UID:10000275-1912071600-1912077000@kogbayarea.org
SUMMARY:Sunday Service
DESCRIPTION:Join us for Sunday Service \nJoin from Zoom Workplace app – Zoom
URL:https://kogbayarea.org/event/sunday-service/2030-08-04/
END:VEVENT
BEGIN:VEVENT
DTSTART;TZID=UTC:20300811T110000
DTEND;TZID=UTC:20300811T123000
DTSTAMP:20260421T120647
CREATED:20250429T184020Z
LAST-MODIFIED:20251105T200106Z
UID:10000276-1912676400-1912681800@kogbayarea.org
SUMMARY:Sunday Service
DESCRIPTION:Join us for Sunday Service \nJoin from Zoom Workplace app – Zoom
URL:https://kogbayarea.org/event/sunday-service/2030-08-11/
END:VEVENT
BEGIN:VEVENT
DTSTART;TZID=UTC:20300818T110000
DTEND;TZID=UTC:20300818T123000
DTSTAMP:20260421T120647
CREATED:20250429T184020Z
LAST-MODIFIED:20251105T200106Z
UID:10000277-1913281200-1913286600@kogbayarea.org
SUMMARY:Sunday Service
DESCRIPTION:Join us for Sunday Service \nJoin from Zoom Workplace app – Zoom
URL:https://kogbayarea.org/event/sunday-service/2030-08-18/
END:VEVENT
BEGIN:VEVENT
DTSTART;TZID=UTC:20300825T110000
DTEND;TZID=UTC:20300825T123000
DTSTAMP:20260421T120647
CREATED:20250429T184020Z
LAST-MODIFIED:20251105T200106Z
UID:10000278-1913886000-1913891400@kogbayarea.org
SUMMARY:Sunday Service
DESCRIPTION:Join us for Sunday Service \nJoin from Zoom Workplace app – Zoom
URL:https://kogbayarea.org/event/sunday-service/2030-08-25/
END:VEVENT
BEGIN:VEVENT
DTSTART;TZID=UTC:20300901T110000
DTEND;TZID=UTC:20300901T123000
DTSTAMP:20260421T120648
CREATED:20250429T184020Z
LAST-MODIFIED:20251105T200106Z
UID:10000279-1914490800-1914496200@kogbayarea.org
SUMMARY:Sunday Service
DESCRIPTION:Join us for Sunday Service \nJoin from Zoom Workplace app – Zoom
URL:https://kogbayarea.org/event/sunday-service/2030-09-01/
END:VEVENT
BEGIN:VEVENT
DTSTART;TZID=UTC:20300908T110000
DTEND;TZID=UTC:20300908T123000
DTSTAMP:20260421T120648
CREATED:20250429T184020Z
LAST-MODIFIED:20251105T200106Z
UID:10000280-1915095600-1915101000@kogbayarea.org
SUMMARY:Sunday Service
DESCRIPTION:Join us for Sunday Service \nJoin from Zoom Workplace app – Zoom
URL:https://kogbayarea.org/event/sunday-service/2030-09-08/
END:VEVENT
BEGIN:VEVENT
DTSTART;TZID=UTC:20300915T110000
DTEND;TZID=UTC:20300915T123000
DTSTAMP:20260421T120648
CREATED:20250429T184020Z
LAST-MODIFIED:20251105T200106Z
UID:10000281-1915700400-1915705800@kogbayarea.org
SUMMARY:Sunday Service
DESCRIPTION:Join us for Sunday Service \nJoin from Zoom Workplace app – Zoom
URL:https://kogbayarea.org/event/sunday-service/2030-09-15/
END:VEVENT
END:VCALENDAR