BEGIN:VCALENDAR
VERSION:2.0
PRODID:-//KOG Bay Area - ECPv6.15.20//NONSGML v1.0//EN
CALSCALE:GREGORIAN
METHOD:PUBLISH
X-ORIGINAL-URL:https://kogbayarea.org
X-WR-CALDESC:Events for KOG Bay Area
REFRESH-INTERVAL;VALUE=DURATION:PT1H
X-Robots-Tag:noindex
X-PUBLISHED-TTL:PT1H
BEGIN:VTIMEZONE
TZID:UTC
BEGIN:STANDARD
TZOFFSETFROM:+0000
TZOFFSETTO:+0000
TZNAME:UTC
DTSTART:20280101T000000
END:STANDARD
END:VTIMEZONE
BEGIN:VEVENT
DTSTART;TZID=UTC:20290520T110000
DTEND;TZID=UTC:20290520T123000
DTSTAMP:20260421T055921
CREATED:20250429T184020Z
LAST-MODIFIED:20251105T200106Z
UID:10000212-1873969200-1873974600@kogbayarea.org
SUMMARY:Sunday Service
DESCRIPTION:Join us for Sunday Service \nJoin from Zoom Workplace app – Zoom
URL:https://kogbayarea.org/event/sunday-service/2029-05-20/
END:VEVENT
BEGIN:VEVENT
DTSTART;TZID=UTC:20290527T110000
DTEND;TZID=UTC:20290527T123000
DTSTAMP:20260421T055921
CREATED:20250429T184020Z
LAST-MODIFIED:20251105T200106Z
UID:10000213-1874574000-1874579400@kogbayarea.org
SUMMARY:Sunday Service
DESCRIPTION:Join us for Sunday Service \nJoin from Zoom Workplace app – Zoom
URL:https://kogbayarea.org/event/sunday-service/2029-05-27/
END:VEVENT
BEGIN:VEVENT
DTSTART;TZID=UTC:20290603T110000
DTEND;TZID=UTC:20290603T123000
DTSTAMP:20260421T055921
CREATED:20250429T184020Z
LAST-MODIFIED:20251105T200106Z
UID:10000214-1875178800-1875184200@kogbayarea.org
SUMMARY:Sunday Service
DESCRIPTION:Join us for Sunday Service \nJoin from Zoom Workplace app – Zoom
URL:https://kogbayarea.org/event/sunday-service/2029-06-03/
END:VEVENT
BEGIN:VEVENT
DTSTART;TZID=UTC:20290610T110000
DTEND;TZID=UTC:20290610T123000
DTSTAMP:20260421T055921
CREATED:20250429T184020Z
LAST-MODIFIED:20251105T200106Z
UID:10000215-1875783600-1875789000@kogbayarea.org
SUMMARY:Sunday Service
DESCRIPTION:Join us for Sunday Service \nJoin from Zoom Workplace app – Zoom
URL:https://kogbayarea.org/event/sunday-service/2029-06-10/
END:VEVENT
BEGIN:VEVENT
DTSTART;TZID=UTC:20290617T110000
DTEND;TZID=UTC:20290617T123000
DTSTAMP:20260421T055921
CREATED:20250429T184020Z
LAST-MODIFIED:20251105T200106Z
UID:10000216-1876388400-1876393800@kogbayarea.org
SUMMARY:Sunday Service
DESCRIPTION:Join us for Sunday Service \nJoin from Zoom Workplace app – Zoom
URL:https://kogbayarea.org/event/sunday-service/2029-06-17/
END:VEVENT
BEGIN:VEVENT
DTSTART;TZID=UTC:20290624T110000
DTEND;TZID=UTC:20290624T123000
DTSTAMP:20260421T055921
CREATED:20250429T184020Z
LAST-MODIFIED:20251105T200106Z
UID:10000217-1876993200-1876998600@kogbayarea.org
SUMMARY:Sunday Service
DESCRIPTION:Join us for Sunday Service \nJoin from Zoom Workplace app – Zoom
URL:https://kogbayarea.org/event/sunday-service/2029-06-24/
END:VEVENT
BEGIN:VEVENT
DTSTART;TZID=UTC:20290701T110000
DTEND;TZID=UTC:20290701T123000
DTSTAMP:20260421T055921
CREATED:20250429T184020Z
LAST-MODIFIED:20251105T200106Z
UID:10000218-1877598000-1877603400@kogbayarea.org
SUMMARY:Sunday Service
DESCRIPTION:Join us for Sunday Service \nJoin from Zoom Workplace app – Zoom
URL:https://kogbayarea.org/event/sunday-service/2029-07-01/
END:VEVENT
BEGIN:VEVENT
DTSTART;TZID=UTC:20290708T110000
DTEND;TZID=UTC:20290708T123000
DTSTAMP:20260421T055921
CREATED:20250429T184020Z
LAST-MODIFIED:20251105T200106Z
UID:10000219-1878202800-1878208200@kogbayarea.org
SUMMARY:Sunday Service
DESCRIPTION:Join us for Sunday Service \nJoin from Zoom Workplace app – Zoom
URL:https://kogbayarea.org/event/sunday-service/2029-07-08/
END:VEVENT
BEGIN:VEVENT
DTSTART;TZID=UTC:20290715T110000
DTEND;TZID=UTC:20290715T123000
DTSTAMP:20260421T055921
CREATED:20250429T184020Z
LAST-MODIFIED:20251105T200106Z
UID:10000220-1878807600-1878813000@kogbayarea.org
SUMMARY:Sunday Service
DESCRIPTION:Join us for Sunday Service \nJoin from Zoom Workplace app – Zoom
URL:https://kogbayarea.org/event/sunday-service/2029-07-15/
END:VEVENT
BEGIN:VEVENT
DTSTART;TZID=UTC:20290722T110000
DTEND;TZID=UTC:20290722T123000
DTSTAMP:20260421T055921
CREATED:20250429T184020Z
LAST-MODIFIED:20251105T200106Z
UID:10000221-1879412400-1879417800@kogbayarea.org
SUMMARY:Sunday Service
DESCRIPTION:Join us for Sunday Service \nJoin from Zoom Workplace app – Zoom
URL:https://kogbayarea.org/event/sunday-service/2029-07-22/
END:VEVENT
BEGIN:VEVENT
DTSTART;TZID=UTC:20290729T110000
DTEND;TZID=UTC:20290729T123000
DTSTAMP:20260421T055922
CREATED:20250429T184020Z
LAST-MODIFIED:20251105T200106Z
UID:10000222-1880017200-1880022600@kogbayarea.org
SUMMARY:Sunday Service
DESCRIPTION:Join us for Sunday Service \nJoin from Zoom Workplace app – Zoom
URL:https://kogbayarea.org/event/sunday-service/2029-07-29/
END:VEVENT
BEGIN:VEVENT
DTSTART;TZID=UTC:20290805T110000
DTEND;TZID=UTC:20290805T123000
DTSTAMP:20260421T055922
CREATED:20250429T184020Z
LAST-MODIFIED:20251105T200106Z
UID:10000223-1880622000-1880627400@kogbayarea.org
SUMMARY:Sunday Service
DESCRIPTION:Join us for Sunday Service \nJoin from Zoom Workplace app – Zoom
URL:https://kogbayarea.org/event/sunday-service/2029-08-05/
END:VEVENT
BEGIN:VEVENT
DTSTART;TZID=UTC:20290812T110000
DTEND;TZID=UTC:20290812T123000
DTSTAMP:20260421T055922
CREATED:20250429T184020Z
LAST-MODIFIED:20251105T200106Z
UID:10000224-1881226800-1881232200@kogbayarea.org
SUMMARY:Sunday Service
DESCRIPTION:Join us for Sunday Service \nJoin from Zoom Workplace app – Zoom
URL:https://kogbayarea.org/event/sunday-service/2029-08-12/
END:VEVENT
BEGIN:VEVENT
DTSTART;TZID=UTC:20290819T110000
DTEND;TZID=UTC:20290819T123000
DTSTAMP:20260421T055922
CREATED:20250429T184020Z
LAST-MODIFIED:20251105T200106Z
UID:10000225-1881831600-1881837000@kogbayarea.org
SUMMARY:Sunday Service
DESCRIPTION:Join us for Sunday Service \nJoin from Zoom Workplace app – Zoom
URL:https://kogbayarea.org/event/sunday-service/2029-08-19/
END:VEVENT
BEGIN:VEVENT
DTSTART;TZID=UTC:20290826T110000
DTEND;TZID=UTC:20290826T123000
DTSTAMP:20260421T055922
CREATED:20250429T184020Z
LAST-MODIFIED:20251105T200106Z
UID:10000226-1882436400-1882441800@kogbayarea.org
SUMMARY:Sunday Service
DESCRIPTION:Join us for Sunday Service \nJoin from Zoom Workplace app – Zoom
URL:https://kogbayarea.org/event/sunday-service/2029-08-26/
END:VEVENT
BEGIN:VEVENT
DTSTART;TZID=UTC:20290902T110000
DTEND;TZID=UTC:20290902T123000
DTSTAMP:20260421T055922
CREATED:20250429T184020Z
LAST-MODIFIED:20251105T200106Z
UID:10000227-1883041200-1883046600@kogbayarea.org
SUMMARY:Sunday Service
DESCRIPTION:Join us for Sunday Service \nJoin from Zoom Workplace app – Zoom
URL:https://kogbayarea.org/event/sunday-service/2029-09-02/
END:VEVENT
BEGIN:VEVENT
DTSTART;TZID=UTC:20290909T110000
DTEND;TZID=UTC:20290909T123000
DTSTAMP:20260421T055922
CREATED:20250429T184020Z
LAST-MODIFIED:20251105T200106Z
UID:10000228-1883646000-1883651400@kogbayarea.org
SUMMARY:Sunday Service
DESCRIPTION:Join us for Sunday Service \nJoin from Zoom Workplace app – Zoom
URL:https://kogbayarea.org/event/sunday-service/2029-09-09/
END:VEVENT
BEGIN:VEVENT
DTSTART;TZID=UTC:20290916T110000
DTEND;TZID=UTC:20290916T123000
DTSTAMP:20260421T055922
CREATED:20250429T184020Z
LAST-MODIFIED:20251105T200106Z
UID:10000229-1884250800-1884256200@kogbayarea.org
SUMMARY:Sunday Service
DESCRIPTION:Join us for Sunday Service \nJoin from Zoom Workplace app – Zoom
URL:https://kogbayarea.org/event/sunday-service/2029-09-16/
END:VEVENT
BEGIN:VEVENT
DTSTART;TZID=UTC:20290923T110000
DTEND;TZID=UTC:20290923T123000
DTSTAMP:20260421T055922
CREATED:20250429T184020Z
LAST-MODIFIED:20251105T200106Z
UID:10000230-1884855600-1884861000@kogbayarea.org
SUMMARY:Sunday Service
DESCRIPTION:Join us for Sunday Service \nJoin from Zoom Workplace app – Zoom
URL:https://kogbayarea.org/event/sunday-service/2029-09-23/
END:VEVENT
BEGIN:VEVENT
DTSTART;TZID=UTC:20290930T110000
DTEND;TZID=UTC:20290930T123000
DTSTAMP:20260421T055922
CREATED:20250429T184020Z
LAST-MODIFIED:20251105T200106Z
UID:10000231-1885460400-1885465800@kogbayarea.org
SUMMARY:Sunday Service
DESCRIPTION:Join us for Sunday Service \nJoin from Zoom Workplace app – Zoom
URL:https://kogbayarea.org/event/sunday-service/2029-09-30/
END:VEVENT
BEGIN:VEVENT
DTSTART;TZID=UTC:20291007T110000
DTEND;TZID=UTC:20291007T123000
DTSTAMP:20260421T055922
CREATED:20250429T184020Z
LAST-MODIFIED:20251105T200106Z
UID:10000232-1886065200-1886070600@kogbayarea.org
SUMMARY:Sunday Service
DESCRIPTION:Join us for Sunday Service \nJoin from Zoom Workplace app – Zoom
URL:https://kogbayarea.org/event/sunday-service/2029-10-07/
END:VEVENT
BEGIN:VEVENT
DTSTART;TZID=UTC:20291014T110000
DTEND;TZID=UTC:20291014T123000
DTSTAMP:20260421T055922
CREATED:20250429T184020Z
LAST-MODIFIED:20251105T200106Z
UID:10000233-1886670000-1886675400@kogbayarea.org
SUMMARY:Sunday Service
DESCRIPTION:Join us for Sunday Service \nJoin from Zoom Workplace app – Zoom
URL:https://kogbayarea.org/event/sunday-service/2029-10-14/
END:VEVENT
BEGIN:VEVENT
DTSTART;TZID=UTC:20291021T110000
DTEND;TZID=UTC:20291021T123000
DTSTAMP:20260421T055922
CREATED:20250429T184020Z
LAST-MODIFIED:20251105T200106Z
UID:10000234-1887274800-1887280200@kogbayarea.org
SUMMARY:Sunday Service
DESCRIPTION:Join us for Sunday Service \nJoin from Zoom Workplace app – Zoom
URL:https://kogbayarea.org/event/sunday-service/2029-10-21/
END:VEVENT
BEGIN:VEVENT
DTSTART;TZID=UTC:20291028T110000
DTEND;TZID=UTC:20291028T123000
DTSTAMP:20260421T055922
CREATED:20250429T184020Z
LAST-MODIFIED:20251105T200106Z
UID:10000235-1887879600-1887885000@kogbayarea.org
SUMMARY:Sunday Service
DESCRIPTION:Join us for Sunday Service \nJoin from Zoom Workplace app – Zoom
URL:https://kogbayarea.org/event/sunday-service/2029-10-28/
END:VEVENT
BEGIN:VEVENT
DTSTART;TZID=UTC:20291104T110000
DTEND;TZID=UTC:20291104T123000
DTSTAMP:20260421T055922
CREATED:20250429T184020Z
LAST-MODIFIED:20251105T200106Z
UID:10000236-1888484400-1888489800@kogbayarea.org
SUMMARY:Sunday Service
DESCRIPTION:Join us for Sunday Service \nJoin from Zoom Workplace app – Zoom
URL:https://kogbayarea.org/event/sunday-service/2029-11-04/
END:VEVENT
BEGIN:VEVENT
DTSTART;TZID=UTC:20291111T110000
DTEND;TZID=UTC:20291111T123000
DTSTAMP:20260421T055922
CREATED:20250429T184020Z
LAST-MODIFIED:20251105T200106Z
UID:10000237-1889089200-1889094600@kogbayarea.org
SUMMARY:Sunday Service
DESCRIPTION:Join us for Sunday Service \nJoin from Zoom Workplace app – Zoom
URL:https://kogbayarea.org/event/sunday-service/2029-11-11/
END:VEVENT
BEGIN:VEVENT
DTSTART;TZID=UTC:20291118T110000
DTEND;TZID=UTC:20291118T123000
DTSTAMP:20260421T055922
CREATED:20250429T184020Z
LAST-MODIFIED:20251105T200106Z
UID:10000238-1889694000-1889699400@kogbayarea.org
SUMMARY:Sunday Service
DESCRIPTION:Join us for Sunday Service \nJoin from Zoom Workplace app – Zoom
URL:https://kogbayarea.org/event/sunday-service/2029-11-18/
END:VEVENT
BEGIN:VEVENT
DTSTART;TZID=UTC:20291125T110000
DTEND;TZID=UTC:20291125T123000
DTSTAMP:20260421T055922
CREATED:20250429T184020Z
LAST-MODIFIED:20251105T200106Z
UID:10000239-1890298800-1890304200@kogbayarea.org
SUMMARY:Sunday Service
DESCRIPTION:Join us for Sunday Service \nJoin from Zoom Workplace app – Zoom
URL:https://kogbayarea.org/event/sunday-service/2029-11-25/
END:VEVENT
BEGIN:VEVENT
DTSTART;TZID=UTC:20291202T110000
DTEND;TZID=UTC:20291202T123000
DTSTAMP:20260421T055922
CREATED:20250429T184020Z
LAST-MODIFIED:20251105T200106Z
UID:10000240-1890903600-1890909000@kogbayarea.org
SUMMARY:Sunday Service
DESCRIPTION:Join us for Sunday Service \nJoin from Zoom Workplace app – Zoom
URL:https://kogbayarea.org/event/sunday-service/2029-12-02/
END:VEVENT
BEGIN:VEVENT
DTSTART;TZID=UTC:20291209T110000
DTEND;TZID=UTC:20291209T123000
DTSTAMP:20260421T055922
CREATED:20250429T184020Z
LAST-MODIFIED:20251105T200106Z
UID:10000241-1891508400-1891513800@kogbayarea.org
SUMMARY:Sunday Service
DESCRIPTION:Join us for Sunday Service \nJoin from Zoom Workplace app – Zoom
URL:https://kogbayarea.org/event/sunday-service/2029-12-09/
END:VEVENT
END:VCALENDAR