BEGIN:VCALENDAR
VERSION:2.0
PRODID:-//KOG Bay Area - ECPv6.15.20//NONSGML v1.0//EN
CALSCALE:GREGORIAN
METHOD:PUBLISH
X-WR-CALNAME:KOG Bay Area
X-ORIGINAL-URL:https://kogbayarea.org
X-WR-CALDESC:Events for KOG Bay Area
REFRESH-INTERVAL;VALUE=DURATION:PT1H
X-Robots-Tag:noindex
X-PUBLISHED-TTL:PT1H
BEGIN:VTIMEZONE
TZID:UTC
BEGIN:STANDARD
TZOFFSETFROM:+0000
TZOFFSETTO:+0000
TZNAME:UTC
DTSTART:20270101T000000
END:STANDARD
END:VTIMEZONE
BEGIN:VEVENT
DTSTART;TZID=UTC:20280604T110000
DTEND;TZID=UTC:20280604T123000
DTSTAMP:20260420T213146
CREATED:20250429T184020Z
LAST-MODIFIED:20251105T200106Z
UID:10000162-1843729200-1843734600@kogbayarea.org
SUMMARY:Sunday Service
DESCRIPTION:Join us for Sunday Service \nJoin from Zoom Workplace app – Zoom
URL:https://kogbayarea.org/event/sunday-service/2028-06-04/
END:VEVENT
BEGIN:VEVENT
DTSTART;TZID=UTC:20280611T110000
DTEND;TZID=UTC:20280611T123000
DTSTAMP:20260420T213146
CREATED:20250429T184020Z
LAST-MODIFIED:20251105T200106Z
UID:10000163-1844334000-1844339400@kogbayarea.org
SUMMARY:Sunday Service
DESCRIPTION:Join us for Sunday Service \nJoin from Zoom Workplace app – Zoom
URL:https://kogbayarea.org/event/sunday-service/2028-06-11/
END:VEVENT
BEGIN:VEVENT
DTSTART;TZID=UTC:20280618T110000
DTEND;TZID=UTC:20280618T123000
DTSTAMP:20260420T213147
CREATED:20250429T184020Z
LAST-MODIFIED:20251105T200106Z
UID:10000164-1844938800-1844944200@kogbayarea.org
SUMMARY:Sunday Service
DESCRIPTION:Join us for Sunday Service \nJoin from Zoom Workplace app – Zoom
URL:https://kogbayarea.org/event/sunday-service/2028-06-18/
END:VEVENT
BEGIN:VEVENT
DTSTART;TZID=UTC:20280625T110000
DTEND;TZID=UTC:20280625T123000
DTSTAMP:20260420T213147
CREATED:20250429T184020Z
LAST-MODIFIED:20251105T200106Z
UID:10000165-1845543600-1845549000@kogbayarea.org
SUMMARY:Sunday Service
DESCRIPTION:Join us for Sunday Service \nJoin from Zoom Workplace app – Zoom
URL:https://kogbayarea.org/event/sunday-service/2028-06-25/
END:VEVENT
BEGIN:VEVENT
DTSTART;TZID=UTC:20280702T110000
DTEND;TZID=UTC:20280702T123000
DTSTAMP:20260420T213147
CREATED:20250429T184020Z
LAST-MODIFIED:20251105T200106Z
UID:10000166-1846148400-1846153800@kogbayarea.org
SUMMARY:Sunday Service
DESCRIPTION:Join us for Sunday Service \nJoin from Zoom Workplace app – Zoom
URL:https://kogbayarea.org/event/sunday-service/2028-07-02/
END:VEVENT
BEGIN:VEVENT
DTSTART;TZID=UTC:20280709T110000
DTEND;TZID=UTC:20280709T123000
DTSTAMP:20260420T213147
CREATED:20250429T184020Z
LAST-MODIFIED:20251105T200106Z
UID:10000167-1846753200-1846758600@kogbayarea.org
SUMMARY:Sunday Service
DESCRIPTION:Join us for Sunday Service \nJoin from Zoom Workplace app – Zoom
URL:https://kogbayarea.org/event/sunday-service/2028-07-09/
END:VEVENT
BEGIN:VEVENT
DTSTART;TZID=UTC:20280716T110000
DTEND;TZID=UTC:20280716T123000
DTSTAMP:20260420T213147
CREATED:20250429T184020Z
LAST-MODIFIED:20251105T200106Z
UID:10000168-1847358000-1847363400@kogbayarea.org
SUMMARY:Sunday Service
DESCRIPTION:Join us for Sunday Service \nJoin from Zoom Workplace app – Zoom
URL:https://kogbayarea.org/event/sunday-service/2028-07-16/
END:VEVENT
BEGIN:VEVENT
DTSTART;TZID=UTC:20280723T110000
DTEND;TZID=UTC:20280723T123000
DTSTAMP:20260420T213147
CREATED:20250429T184020Z
LAST-MODIFIED:20251105T200106Z
UID:10000169-1847962800-1847968200@kogbayarea.org
SUMMARY:Sunday Service
DESCRIPTION:Join us for Sunday Service \nJoin from Zoom Workplace app – Zoom
URL:https://kogbayarea.org/event/sunday-service/2028-07-23/
END:VEVENT
BEGIN:VEVENT
DTSTART;TZID=UTC:20280730T110000
DTEND;TZID=UTC:20280730T123000
DTSTAMP:20260420T213147
CREATED:20250429T184020Z
LAST-MODIFIED:20251105T200106Z
UID:10000170-1848567600-1848573000@kogbayarea.org
SUMMARY:Sunday Service
DESCRIPTION:Join us for Sunday Service \nJoin from Zoom Workplace app – Zoom
URL:https://kogbayarea.org/event/sunday-service/2028-07-30/
END:VEVENT
BEGIN:VEVENT
DTSTART;TZID=UTC:20280806T110000
DTEND;TZID=UTC:20280806T123000
DTSTAMP:20260420T213147
CREATED:20250429T184020Z
LAST-MODIFIED:20251105T200106Z
UID:10000171-1849172400-1849177800@kogbayarea.org
SUMMARY:Sunday Service
DESCRIPTION:Join us for Sunday Service \nJoin from Zoom Workplace app – Zoom
URL:https://kogbayarea.org/event/sunday-service/2028-08-06/
END:VEVENT
BEGIN:VEVENT
DTSTART;TZID=UTC:20280813T110000
DTEND;TZID=UTC:20280813T123000
DTSTAMP:20260420T213147
CREATED:20250429T184020Z
LAST-MODIFIED:20251105T200106Z
UID:10000172-1849777200-1849782600@kogbayarea.org
SUMMARY:Sunday Service
DESCRIPTION:Join us for Sunday Service \nJoin from Zoom Workplace app – Zoom
URL:https://kogbayarea.org/event/sunday-service/2028-08-13/
END:VEVENT
BEGIN:VEVENT
DTSTART;TZID=UTC:20280820T110000
DTEND;TZID=UTC:20280820T123000
DTSTAMP:20260420T213147
CREATED:20250429T184020Z
LAST-MODIFIED:20251105T200106Z
UID:10000173-1850382000-1850387400@kogbayarea.org
SUMMARY:Sunday Service
DESCRIPTION:Join us for Sunday Service \nJoin from Zoom Workplace app – Zoom
URL:https://kogbayarea.org/event/sunday-service/2028-08-20/
END:VEVENT
BEGIN:VEVENT
DTSTART;TZID=UTC:20280827T110000
DTEND;TZID=UTC:20280827T123000
DTSTAMP:20260420T213147
CREATED:20250429T184020Z
LAST-MODIFIED:20251105T200106Z
UID:10000174-1850986800-1850992200@kogbayarea.org
SUMMARY:Sunday Service
DESCRIPTION:Join us for Sunday Service \nJoin from Zoom Workplace app – Zoom
URL:https://kogbayarea.org/event/sunday-service/2028-08-27/
END:VEVENT
BEGIN:VEVENT
DTSTART;TZID=UTC:20280903T110000
DTEND;TZID=UTC:20280903T123000
DTSTAMP:20260420T213147
CREATED:20250429T184020Z
LAST-MODIFIED:20251105T200106Z
UID:10000175-1851591600-1851597000@kogbayarea.org
SUMMARY:Sunday Service
DESCRIPTION:Join us for Sunday Service \nJoin from Zoom Workplace app – Zoom
URL:https://kogbayarea.org/event/sunday-service/2028-09-03/
END:VEVENT
BEGIN:VEVENT
DTSTART;TZID=UTC:20280910T110000
DTEND;TZID=UTC:20280910T123000
DTSTAMP:20260420T213147
CREATED:20250429T184020Z
LAST-MODIFIED:20251105T200106Z
UID:10000176-1852196400-1852201800@kogbayarea.org
SUMMARY:Sunday Service
DESCRIPTION:Join us for Sunday Service \nJoin from Zoom Workplace app – Zoom
URL:https://kogbayarea.org/event/sunday-service/2028-09-10/
END:VEVENT
BEGIN:VEVENT
DTSTART;TZID=UTC:20280917T110000
DTEND;TZID=UTC:20280917T123000
DTSTAMP:20260420T213147
CREATED:20250429T184020Z
LAST-MODIFIED:20251105T200106Z
UID:10000177-1852801200-1852806600@kogbayarea.org
SUMMARY:Sunday Service
DESCRIPTION:Join us for Sunday Service \nJoin from Zoom Workplace app – Zoom
URL:https://kogbayarea.org/event/sunday-service/2028-09-17/
END:VEVENT
BEGIN:VEVENT
DTSTART;TZID=UTC:20280924T110000
DTEND;TZID=UTC:20280924T123000
DTSTAMP:20260420T213147
CREATED:20250429T184020Z
LAST-MODIFIED:20251105T200106Z
UID:10000178-1853406000-1853411400@kogbayarea.org
SUMMARY:Sunday Service
DESCRIPTION:Join us for Sunday Service \nJoin from Zoom Workplace app – Zoom
URL:https://kogbayarea.org/event/sunday-service/2028-09-24/
END:VEVENT
BEGIN:VEVENT
DTSTART;TZID=UTC:20281001T110000
DTEND;TZID=UTC:20281001T123000
DTSTAMP:20260420T213147
CREATED:20250429T184020Z
LAST-MODIFIED:20251105T200106Z
UID:10000179-1854010800-1854016200@kogbayarea.org
SUMMARY:Sunday Service
DESCRIPTION:Join us for Sunday Service \nJoin from Zoom Workplace app – Zoom
URL:https://kogbayarea.org/event/sunday-service/2028-10-01/
END:VEVENT
BEGIN:VEVENT
DTSTART;TZID=UTC:20281008T110000
DTEND;TZID=UTC:20281008T123000
DTSTAMP:20260420T213147
CREATED:20250429T184020Z
LAST-MODIFIED:20251105T200106Z
UID:10000180-1854615600-1854621000@kogbayarea.org
SUMMARY:Sunday Service
DESCRIPTION:Join us for Sunday Service \nJoin from Zoom Workplace app – Zoom
URL:https://kogbayarea.org/event/sunday-service/2028-10-08/
END:VEVENT
BEGIN:VEVENT
DTSTART;TZID=UTC:20281015T110000
DTEND;TZID=UTC:20281015T123000
DTSTAMP:20260420T213147
CREATED:20250429T184020Z
LAST-MODIFIED:20251105T200106Z
UID:10000181-1855220400-1855225800@kogbayarea.org
SUMMARY:Sunday Service
DESCRIPTION:Join us for Sunday Service \nJoin from Zoom Workplace app – Zoom
URL:https://kogbayarea.org/event/sunday-service/2028-10-15/
END:VEVENT
BEGIN:VEVENT
DTSTART;TZID=UTC:20281022T110000
DTEND;TZID=UTC:20281022T123000
DTSTAMP:20260420T213147
CREATED:20250429T184020Z
LAST-MODIFIED:20251105T200106Z
UID:10000182-1855825200-1855830600@kogbayarea.org
SUMMARY:Sunday Service
DESCRIPTION:Join us for Sunday Service \nJoin from Zoom Workplace app – Zoom
URL:https://kogbayarea.org/event/sunday-service/2028-10-22/
END:VEVENT
BEGIN:VEVENT
DTSTART;TZID=UTC:20281029T110000
DTEND;TZID=UTC:20281029T123000
DTSTAMP:20260420T213147
CREATED:20250429T184020Z
LAST-MODIFIED:20251105T200106Z
UID:10000183-1856430000-1856435400@kogbayarea.org
SUMMARY:Sunday Service
DESCRIPTION:Join us for Sunday Service \nJoin from Zoom Workplace app – Zoom
URL:https://kogbayarea.org/event/sunday-service/2028-10-29/
END:VEVENT
BEGIN:VEVENT
DTSTART;TZID=UTC:20281105T110000
DTEND;TZID=UTC:20281105T123000
DTSTAMP:20260420T213147
CREATED:20250429T184020Z
LAST-MODIFIED:20251105T200106Z
UID:10000184-1857034800-1857040200@kogbayarea.org
SUMMARY:Sunday Service
DESCRIPTION:Join us for Sunday Service \nJoin from Zoom Workplace app – Zoom
URL:https://kogbayarea.org/event/sunday-service/2028-11-05/
END:VEVENT
BEGIN:VEVENT
DTSTART;TZID=UTC:20281112T110000
DTEND;TZID=UTC:20281112T123000
DTSTAMP:20260420T213147
CREATED:20250429T184020Z
LAST-MODIFIED:20251105T200106Z
UID:10000185-1857639600-1857645000@kogbayarea.org
SUMMARY:Sunday Service
DESCRIPTION:Join us for Sunday Service \nJoin from Zoom Workplace app – Zoom
URL:https://kogbayarea.org/event/sunday-service/2028-11-12/
END:VEVENT
BEGIN:VEVENT
DTSTART;TZID=UTC:20281119T110000
DTEND;TZID=UTC:20281119T123000
DTSTAMP:20260420T213147
CREATED:20250429T184020Z
LAST-MODIFIED:20251105T200106Z
UID:10000186-1858244400-1858249800@kogbayarea.org
SUMMARY:Sunday Service
DESCRIPTION:Join us for Sunday Service \nJoin from Zoom Workplace app – Zoom
URL:https://kogbayarea.org/event/sunday-service/2028-11-19/
END:VEVENT
BEGIN:VEVENT
DTSTART;TZID=UTC:20281126T110000
DTEND;TZID=UTC:20281126T123000
DTSTAMP:20260420T213147
CREATED:20250429T184020Z
LAST-MODIFIED:20251105T200106Z
UID:10000187-1858849200-1858854600@kogbayarea.org
SUMMARY:Sunday Service
DESCRIPTION:Join us for Sunday Service \nJoin from Zoom Workplace app – Zoom
URL:https://kogbayarea.org/event/sunday-service/2028-11-26/
END:VEVENT
BEGIN:VEVENT
DTSTART;TZID=UTC:20281203T110000
DTEND;TZID=UTC:20281203T123000
DTSTAMP:20260420T213147
CREATED:20250429T184020Z
LAST-MODIFIED:20251105T200106Z
UID:10000188-1859454000-1859459400@kogbayarea.org
SUMMARY:Sunday Service
DESCRIPTION:Join us for Sunday Service \nJoin from Zoom Workplace app – Zoom
URL:https://kogbayarea.org/event/sunday-service/2028-12-03/
END:VEVENT
BEGIN:VEVENT
DTSTART;TZID=UTC:20281210T110000
DTEND;TZID=UTC:20281210T123000
DTSTAMP:20260420T213147
CREATED:20250429T184020Z
LAST-MODIFIED:20251105T200106Z
UID:10000189-1860058800-1860064200@kogbayarea.org
SUMMARY:Sunday Service
DESCRIPTION:Join us for Sunday Service \nJoin from Zoom Workplace app – Zoom
URL:https://kogbayarea.org/event/sunday-service/2028-12-10/
END:VEVENT
BEGIN:VEVENT
DTSTART;TZID=UTC:20281217T110000
DTEND;TZID=UTC:20281217T123000
DTSTAMP:20260420T213147
CREATED:20250429T184020Z
LAST-MODIFIED:20251105T200106Z
UID:10000190-1860663600-1860669000@kogbayarea.org
SUMMARY:Sunday Service
DESCRIPTION:Join us for Sunday Service \nJoin from Zoom Workplace app – Zoom
URL:https://kogbayarea.org/event/sunday-service/2028-12-17/
END:VEVENT
BEGIN:VEVENT
DTSTART;TZID=UTC:20281224T110000
DTEND;TZID=UTC:20281224T123000
DTSTAMP:20260420T213147
CREATED:20250429T184020Z
LAST-MODIFIED:20251105T200106Z
UID:10000191-1861268400-1861273800@kogbayarea.org
SUMMARY:Sunday Service
DESCRIPTION:Join us for Sunday Service \nJoin from Zoom Workplace app – Zoom
URL:https://kogbayarea.org/event/sunday-service/2028-12-24/
END:VEVENT
END:VCALENDAR