BEGIN:VCALENDAR
VERSION:2.0
PRODID:-//KOG Bay Area - ECPv6.15.20//NONSGML v1.0//EN
CALSCALE:GREGORIAN
METHOD:PUBLISH
X-WR-CALNAME:KOG Bay Area
X-ORIGINAL-URL:https://kogbayarea.org
X-WR-CALDESC:Events for KOG Bay Area
REFRESH-INTERVAL;VALUE=DURATION:PT1H
X-Robots-Tag:noindex
X-PUBLISHED-TTL:PT1H
BEGIN:VTIMEZONE
TZID:UTC
BEGIN:STANDARD
TZOFFSETFROM:+0000
TZOFFSETTO:+0000
TZNAME:UTC
DTSTART:20240101T000000
END:STANDARD
END:VTIMEZONE
BEGIN:VEVENT
DTSTART;TZID=UTC:20260419T110000
DTEND;TZID=UTC:20260419T123000
DTSTAMP:20260419T203420
CREATED:20250429T184020Z
LAST-MODIFIED:20251105T200106Z
UID:10000051-1776596400-1776601800@kogbayarea.org
SUMMARY:Sunday Service
DESCRIPTION:Join us for Sunday Service \nJoin from Zoom Workplace app – Zoom
URL:https://kogbayarea.org/event/sunday-service/2026-04-19/
END:VEVENT
BEGIN:VEVENT
DTSTART;TZID=UTC:20260412T110000
DTEND;TZID=UTC:20260412T123000
DTSTAMP:20260419T203420
CREATED:20250429T184020Z
LAST-MODIFIED:20251105T200106Z
UID:10000050-1775991600-1775997000@kogbayarea.org
SUMMARY:Sunday Service
DESCRIPTION:Join us for Sunday Service \nJoin from Zoom Workplace app – Zoom
URL:https://kogbayarea.org/event/sunday-service/2026-04-12/
END:VEVENT
BEGIN:VEVENT
DTSTART;TZID=UTC:20260405T110000
DTEND;TZID=UTC:20260405T123000
DTSTAMP:20260419T203420
CREATED:20250429T184020Z
LAST-MODIFIED:20251105T200106Z
UID:10000049-1775386800-1775392200@kogbayarea.org
SUMMARY:Sunday Service
DESCRIPTION:Join us for Sunday Service \nJoin from Zoom Workplace app – Zoom
URL:https://kogbayarea.org/event/sunday-service/2026-04-05/
END:VEVENT
BEGIN:VEVENT
DTSTART;TZID=UTC:20260329T110000
DTEND;TZID=UTC:20260329T123000
DTSTAMP:20260419T203420
CREATED:20250429T184020Z
LAST-MODIFIED:20251105T200106Z
UID:10000048-1774782000-1774787400@kogbayarea.org
SUMMARY:Sunday Service
DESCRIPTION:Join us for Sunday Service \nJoin from Zoom Workplace app – Zoom
URL:https://kogbayarea.org/event/sunday-service/2026-03-29/
END:VEVENT
BEGIN:VEVENT
DTSTART;TZID=UTC:20260322T110000
DTEND;TZID=UTC:20260322T123000
DTSTAMP:20260419T203420
CREATED:20250429T184020Z
LAST-MODIFIED:20251105T200106Z
UID:10000047-1774177200-1774182600@kogbayarea.org
SUMMARY:Sunday Service
DESCRIPTION:Join us for Sunday Service \nJoin from Zoom Workplace app – Zoom
URL:https://kogbayarea.org/event/sunday-service/2026-03-22/
END:VEVENT
BEGIN:VEVENT
DTSTART;TZID=UTC:20260315T110000
DTEND;TZID=UTC:20260315T123000
DTSTAMP:20260419T203420
CREATED:20250429T184020Z
LAST-MODIFIED:20251105T200106Z
UID:10000046-1773572400-1773577800@kogbayarea.org
SUMMARY:Sunday Service
DESCRIPTION:Join us for Sunday Service \nJoin from Zoom Workplace app – Zoom
URL:https://kogbayarea.org/event/sunday-service/2026-03-15/
END:VEVENT
BEGIN:VEVENT
DTSTART;TZID=UTC:20260308T110000
DTEND;TZID=UTC:20260308T123000
DTSTAMP:20260419T203420
CREATED:20250429T184020Z
LAST-MODIFIED:20251105T200106Z
UID:10000045-1772967600-1772973000@kogbayarea.org
SUMMARY:Sunday Service
DESCRIPTION:Join us for Sunday Service \nJoin from Zoom Workplace app – Zoom
URL:https://kogbayarea.org/event/sunday-service/2026-03-08/
END:VEVENT
BEGIN:VEVENT
DTSTART;TZID=UTC:20260301T110000
DTEND;TZID=UTC:20260301T123000
DTSTAMP:20260419T203420
CREATED:20250429T184020Z
LAST-MODIFIED:20251105T200106Z
UID:10000044-1772362800-1772368200@kogbayarea.org
SUMMARY:Sunday Service
DESCRIPTION:Join us for Sunday Service \nJoin from Zoom Workplace app – Zoom
URL:https://kogbayarea.org/event/sunday-service/2026-03-01/
END:VEVENT
BEGIN:VEVENT
DTSTART;TZID=UTC:20260222T110000
DTEND;TZID=UTC:20260222T123000
DTSTAMP:20260419T203420
CREATED:20250429T184020Z
LAST-MODIFIED:20251105T200106Z
UID:10000043-1771758000-1771763400@kogbayarea.org
SUMMARY:Sunday Service
DESCRIPTION:Join us for Sunday Service \nJoin from Zoom Workplace app – Zoom
URL:https://kogbayarea.org/event/sunday-service/2026-02-22/
END:VEVENT
BEGIN:VEVENT
DTSTART;TZID=UTC:20260215T110000
DTEND;TZID=UTC:20260215T123000
DTSTAMP:20260419T203420
CREATED:20250429T184020Z
LAST-MODIFIED:20251105T200106Z
UID:10000042-1771153200-1771158600@kogbayarea.org
SUMMARY:Sunday Service
DESCRIPTION:Join us for Sunday Service \nJoin from Zoom Workplace app – Zoom
URL:https://kogbayarea.org/event/sunday-service/2026-02-15/
END:VEVENT
BEGIN:VEVENT
DTSTART;TZID=UTC:20260208T110000
DTEND;TZID=UTC:20260208T123000
DTSTAMP:20260419T203420
CREATED:20250429T184020Z
LAST-MODIFIED:20251105T200106Z
UID:10000041-1770548400-1770553800@kogbayarea.org
SUMMARY:Sunday Service
DESCRIPTION:Join us for Sunday Service \nJoin from Zoom Workplace app – Zoom
URL:https://kogbayarea.org/event/sunday-service/2026-02-08/
END:VEVENT
BEGIN:VEVENT
DTSTART;TZID=UTC:20260201T110000
DTEND;TZID=UTC:20260201T123000
DTSTAMP:20260419T203420
CREATED:20250429T184020Z
LAST-MODIFIED:20251105T200106Z
UID:10000040-1769943600-1769949000@kogbayarea.org
SUMMARY:Sunday Service
DESCRIPTION:Join us for Sunday Service \nJoin from Zoom Workplace app – Zoom
URL:https://kogbayarea.org/event/sunday-service/2026-02-01/
END:VEVENT
BEGIN:VEVENT
DTSTART;TZID=UTC:20260125T110000
DTEND;TZID=UTC:20260125T123000
DTSTAMP:20260419T203420
CREATED:20250429T184020Z
LAST-MODIFIED:20251105T200106Z
UID:10000039-1769338800-1769344200@kogbayarea.org
SUMMARY:Sunday Service
DESCRIPTION:Join us for Sunday Service \nJoin from Zoom Workplace app – Zoom
URL:https://kogbayarea.org/event/sunday-service/2026-01-25/
END:VEVENT
BEGIN:VEVENT
DTSTART;TZID=UTC:20260118T110000
DTEND;TZID=UTC:20260118T123000
DTSTAMP:20260419T203420
CREATED:20250429T184020Z
LAST-MODIFIED:20251105T200106Z
UID:10000038-1768734000-1768739400@kogbayarea.org
SUMMARY:Sunday Service
DESCRIPTION:Join us for Sunday Service \nJoin from Zoom Workplace app – Zoom
URL:https://kogbayarea.org/event/sunday-service/2026-01-18/
END:VEVENT
BEGIN:VEVENT
DTSTART;TZID=UTC:20260111T110000
DTEND;TZID=UTC:20260111T123000
DTSTAMP:20260419T203420
CREATED:20250429T184020Z
LAST-MODIFIED:20251105T200106Z
UID:10000037-1768129200-1768134600@kogbayarea.org
SUMMARY:Sunday Service
DESCRIPTION:Join us for Sunday Service \nJoin from Zoom Workplace app – Zoom
URL:https://kogbayarea.org/event/sunday-service/2026-01-11/
END:VEVENT
BEGIN:VEVENT
DTSTART;TZID=UTC:20260104T110000
DTEND;TZID=UTC:20260104T123000
DTSTAMP:20260419T203420
CREATED:20250429T184020Z
LAST-MODIFIED:20251105T200106Z
UID:10000036-1767524400-1767529800@kogbayarea.org
SUMMARY:Sunday Service
DESCRIPTION:Join us for Sunday Service \nJoin from Zoom Workplace app – Zoom
URL:https://kogbayarea.org/event/sunday-service/2026-01-04/
END:VEVENT
BEGIN:VEVENT
DTSTART;TZID=UTC:20251228T110000
DTEND;TZID=UTC:20251228T123000
DTSTAMP:20260419T203420
CREATED:20250429T184020Z
LAST-MODIFIED:20251105T200106Z
UID:10000035-1766919600-1766925000@kogbayarea.org
SUMMARY:Sunday Service
DESCRIPTION:Join us for Sunday Service \nJoin from Zoom Workplace app – Zoom
URL:https://kogbayarea.org/event/sunday-service/2025-12-28/
END:VEVENT
BEGIN:VEVENT
DTSTART;TZID=UTC:20251221T110000
DTEND;TZID=UTC:20251221T123000
DTSTAMP:20260419T203420
CREATED:20250429T184020Z
LAST-MODIFIED:20251105T200106Z
UID:10000034-1766314800-1766320200@kogbayarea.org
SUMMARY:Sunday Service
DESCRIPTION:Join us for Sunday Service \nJoin from Zoom Workplace app – Zoom
URL:https://kogbayarea.org/event/sunday-service/2025-12-21/
END:VEVENT
BEGIN:VEVENT
DTSTART;TZID=UTC:20251214T110000
DTEND;TZID=UTC:20251214T123000
DTSTAMP:20260419T203420
CREATED:20250429T184020Z
LAST-MODIFIED:20251105T200106Z
UID:10000033-1765710000-1765715400@kogbayarea.org
SUMMARY:Sunday Service
DESCRIPTION:Join us for Sunday Service \nJoin from Zoom Workplace app – Zoom
URL:https://kogbayarea.org/event/sunday-service/2025-12-14/
END:VEVENT
BEGIN:VEVENT
DTSTART;TZID=UTC:20251207T110000
DTEND;TZID=UTC:20251207T123000
DTSTAMP:20260419T203420
CREATED:20250429T184020Z
LAST-MODIFIED:20251105T200106Z
UID:10000032-1765105200-1765110600@kogbayarea.org
SUMMARY:Sunday Service
DESCRIPTION:Join us for Sunday Service \nJoin from Zoom Workplace app – Zoom
URL:https://kogbayarea.org/event/sunday-service/2025-12-07/
END:VEVENT
BEGIN:VEVENT
DTSTART;TZID=UTC:20251130T110000
DTEND;TZID=UTC:20251130T123000
DTSTAMP:20260419T203420
CREATED:20250429T184020Z
LAST-MODIFIED:20251105T200106Z
UID:10000031-1764500400-1764505800@kogbayarea.org
SUMMARY:Sunday Service
DESCRIPTION:Join us for Sunday Service \nJoin from Zoom Workplace app – Zoom
URL:https://kogbayarea.org/event/sunday-service/2025-11-30/
END:VEVENT
BEGIN:VEVENT
DTSTART;TZID=UTC:20251123T110000
DTEND;TZID=UTC:20251123T123000
DTSTAMP:20260419T203420
CREATED:20250429T184020Z
LAST-MODIFIED:20251105T200106Z
UID:10000030-1763895600-1763901000@kogbayarea.org
SUMMARY:Sunday Service
DESCRIPTION:Join us for Sunday Service \nJoin from Zoom Workplace app – Zoom
URL:https://kogbayarea.org/event/sunday-service/2025-11-23/
END:VEVENT
BEGIN:VEVENT
DTSTART;TZID=UTC:20251116T110000
DTEND;TZID=UTC:20251116T123000
DTSTAMP:20260419T203420
CREATED:20250429T184020Z
LAST-MODIFIED:20251105T200106Z
UID:10000029-1763290800-1763296200@kogbayarea.org
SUMMARY:Sunday Service
DESCRIPTION:Join us for Sunday Service \nJoin from Zoom Workplace app – Zoom
URL:https://kogbayarea.org/event/sunday-service/2025-11-16/
END:VEVENT
BEGIN:VEVENT
DTSTART;TZID=UTC:20251109T110000
DTEND;TZID=UTC:20251109T123000
DTSTAMP:20260419T203420
CREATED:20250429T184020Z
LAST-MODIFIED:20251105T200106Z
UID:10000028-1762686000-1762691400@kogbayarea.org
SUMMARY:Sunday Service
DESCRIPTION:Join us for Sunday Service \nJoin from Zoom Workplace app – Zoom
URL:https://kogbayarea.org/event/sunday-service/2025-11-09/
END:VEVENT
BEGIN:VEVENT
DTSTART;TZID=UTC:20251102T110000
DTEND;TZID=UTC:20251102T123000
DTSTAMP:20260419T203420
CREATED:20250429T184020Z
LAST-MODIFIED:20251105T200106Z
UID:10000027-1762081200-1762086600@kogbayarea.org
SUMMARY:Sunday Service
DESCRIPTION:Join us for Sunday Service \nJoin from Zoom Workplace app – Zoom
URL:https://kogbayarea.org/event/sunday-service/2025-11-02/
END:VEVENT
BEGIN:VEVENT
DTSTART;TZID=UTC:20251026T110000
DTEND;TZID=UTC:20251026T123000
DTSTAMP:20260419T203420
CREATED:20250429T184020Z
LAST-MODIFIED:20251105T200106Z
UID:10000026-1761476400-1761481800@kogbayarea.org
SUMMARY:Sunday Service
DESCRIPTION:Join us for Sunday Service \nJoin from Zoom Workplace app – Zoom
URL:https://kogbayarea.org/event/sunday-service/2025-10-26/
END:VEVENT
BEGIN:VEVENT
DTSTART;TZID=UTC:20251019T110000
DTEND;TZID=UTC:20251019T123000
DTSTAMP:20260419T203420
CREATED:20250429T184020Z
LAST-MODIFIED:20251105T200106Z
UID:10000025-1760871600-1760877000@kogbayarea.org
SUMMARY:Sunday Service
DESCRIPTION:Join us for Sunday Service \nJoin from Zoom Workplace app – Zoom
URL:https://kogbayarea.org/event/sunday-service/2025-10-19/
END:VEVENT
BEGIN:VEVENT
DTSTART;TZID=UTC:20251012T110000
DTEND;TZID=UTC:20251012T123000
DTSTAMP:20260419T203420
CREATED:20250429T184020Z
LAST-MODIFIED:20251105T200106Z
UID:10000024-1760266800-1760272200@kogbayarea.org
SUMMARY:Sunday Service
DESCRIPTION:Join us for Sunday Service \nJoin from Zoom Workplace app – Zoom
URL:https://kogbayarea.org/event/sunday-service/2025-10-12/
END:VEVENT
BEGIN:VEVENT
DTSTART;TZID=UTC:20251005T110000
DTEND;TZID=UTC:20251005T123000
DTSTAMP:20260419T203420
CREATED:20250429T184020Z
LAST-MODIFIED:20251105T200106Z
UID:10000023-1759662000-1759667400@kogbayarea.org
SUMMARY:Sunday Service
DESCRIPTION:Join us for Sunday Service \nJoin from Zoom Workplace app – Zoom
URL:https://kogbayarea.org/event/sunday-service/2025-10-05/
END:VEVENT
BEGIN:VEVENT
DTSTART;TZID=UTC:20250928T110000
DTEND;TZID=UTC:20250928T123000
DTSTAMP:20260419T203420
CREATED:20250429T184020Z
LAST-MODIFIED:20251105T200106Z
UID:10000022-1759057200-1759062600@kogbayarea.org
SUMMARY:Sunday Service
DESCRIPTION:Join us for Sunday Service \nJoin from Zoom Workplace app – Zoom
URL:https://kogbayarea.org/event/sunday-service/2025-09-28/
END:VEVENT
END:VCALENDAR